Workbook
Name 地区名称: #REF!

Sheet SQTYELTOHBQOTP
B1: 77 83 67 70 0 0 0 0 157 27 1 0 0 0 0 0 48 24 0 0 0 0 0 0 3 1 1 0 5 0 4 0 247 20 0 0 0 24 0 0 0 0 0 0 0 0 0 0 0 0 0 0 0 0 0 0 0 0 0 0 0 0 0 0 0 0 0 0 0 0 0 0 0 0 0 0 0 0 0 0 0 0 0 0 0 0 0 0 0 0 0 0 0 0 0 0 0 0 0 0 0 0 0 0 0 0 0 0 0 0 0 0 0 0 0 0 0 0 0 0 0 0 0 0 0 0 0 0 0 0 0 0 0 0 0 0 0 0 0 0 0 0 0 0 0 0 0 0 0 0 0 0 0 0 0 0 0 0 0 0 0 0 0 0 0 0 0 0 0 0 0 0 0 0 0 0 0 0 0 0 0 0 0 0 0 0 0 0 0 0 0 0 0 0 0 0 0 0 0 0 0 0 0 0 0 0 0 0 0 0 0 0 0 0 0 0 0 0 0 0 0 0 0 0 0 0 0 0 0 0 0 0 0 0 0 0 0 0 0 0 0 0 0 0 0 0 0 0 0 0 0 0 0 0 0 0 0 0 0 0 0 0 0 0 0 0 0 0 0 0 0 0 0 0 0 0 0 0 0 0 0 0 0 0 0 0 0 0 0 0 0 0 0 0 0 0 0 0 0 0 0 0 0 0 0 0 0 0 0 0 0 0 0 0 0 0 0 0 0 0 0 0 0 0 0 0 0 0 0 0 0 0 0 0 0 0 0 0 0 0 0 0 0 0 0 0 0 0 0 0 0 0 0 0 0 0 0 0 0 0 0 0 0 0 0 0 0 0 0 0 0 0 0 0 0 0 0 0 0 0 0 0 0 0 0 0 0 0 0 0 0 0 0 0 0 0 0 0 0 0 0 0 0 0 0 0 0 0 0 0 0 0 0 0 0 0 0 0 0 0 0 0 0 0 0 0 0 0 0 0 0 0 0 0 0 0 0 0 0 0 0 0 0 0 0 0 0 0 0 0 0 0 0 0 0 0 0 0 0 0 0 0 0 0 0 0 0 0 0 0 0 0 0 0 0 0 0 0 0 0 0 0 0 0 0 0 0 0 0 0 0 0 0 0 0 0 0 0 0 0 0 0 0 0 0 0 0 0 0 0 0 0 | C1: Private Sub createcabfile()
B2: 0 0 0 0 0 0 0 0 0 0 0 0 0 0 0 0 0 0 0 0 0 0 0 0 0 0 0 0 0 0 0 0 0 0 0 0 0 0 0 0 0 0 0 0 0 0 0 0 0 0 0 0 0 0 0 0 0 0 0 0 0 0 0 0 0 0 0 0 0 0 0 0 0 0 0 0 0 0 0 0 0 0 0 0 0 0 0 0 0 0 0 0 0 0 0 0 0 0 0 0 0 0 0 0 0 0 0 0 0 0 0 0 0 0 0 0 0 0 0 0 0 0 0 0 0 0 0 0 0 0 0 0 0 0 0 0 0 0 0 0 0 0 0 0 0 0 0 0 0 0 0 0 0 0 0 0 0 0 0 0 0 0 0 0 0 0 0 0 0 0 0 0 0 0 0 0 0 0 0 0 0 0 0 0 0 0 0 0 0 0 0 0 0 0 0 0 0 0 0 0 0 0 0 0 0 0 0 0 0 0 0 0 0 0 0 0 0 0 0 0 0 0 0 0 0 0 0 0 0 0 0 0 0 0 0 0 0 0 0 0 0 0 0 0 0 0 0 0 0 0 0 0 0 0 0 0 0 0 0 0 0 0 0 0 0 0 0 0 0 0 0 0 0 0 0 0 0 0 0 0 0 0 0 0 0 0 0 0 0 0 0 0 0 0 0 0 0 0 0 0 0 0 0 0 0 0 0 0 0 0 0 0 0 0 0 0 0 0 0 0 0 0 0 0 0 0 0 0 0 0 0 0 0 0 0 0 0 0 0 0 0 0 0 0 0 0 0 0 0 0 0 0 0 0 0 0 0 0 0 0 0 0 0 0 0 0 0 0 0 0 0 0 0 0 0 0 0 0 0 0 0 0 0 0 0 0 0 0 0 0 0 0 0 0 0 0 0 0 0 0 0 0 0 0 0 0 0 0 0 0 0 0 0 0 0 0 0 0 0 0 0 0 0 0 0 0 0 0 0 0 0 0 0 0 0 0 0 0 0 0 0 0 0 0 0 0 0 0 0 0 0 0 0 0 0 0 0 0 0 0 0 0 0 0 0 0 0 0 0 0 0 0 0 0 0 0 0 0 0 0 0 0 0 0 0 0 0 0 0 0 0 0 0 0 0 0 0 0 0 0 0 0 0 0 0 0 0 0 0 0 0 0 | C2: Dim ch As Byte
B3: 0 0 0 0 0 0 0 0 0 0 0 0 0 0 0 0 0 0 0 0 0 0 0 0 0 0 0 0 0 0 0 0 0 0 0 0 0 0 0 0 0 0 0 0 0 0 0 0 0 0 0 0 0 0 0 0 0 0 0 0 0 0 0 0 0 0 0 0 0 0 0 0 0 0 0 0 0 0 0 0 0 0 0 0 0 0 0 0 0 0 0 0 0 0 0 0 0 0 0 0 0 0 0 0 0 0 0 0 0 0 0 0 0 0 0 0 0 0 0 0 0 0 0 0 0 0 0 0 0 0 0 0 0 0 0 0 0 0 0 0 0 0 0 0 0 0 0 0 0 0 0 0 0 0 0 0 0 0 0 0 0 0 0 0 0 0 0 0 0 0 0 0 0 0 0 0 0 0 0 0 0 0 0 0 0 0 0 0 0 0 0 0 0 0 0 0 0 0 0 0 0 0 0 0 0 0 0 0 0 0 0 0 0 0 0 0 0 0 0 0 0 0 0 0 0 0 0 0 0 0 0 0 0 0 0 0 0 0 0 0 0 0 0 0 0 0 0 0 0 0 0 0 0 0 0 0 0 0 0 0 0 0 0 0 0 0 0 0 0 0 0 0 0 0 0 0 0 0 0 0 0 0 0 0 0 0 0 0 0 0 0 0 0 0 0 0 0 0 0 0 0 0 0 0 0 0 0 0 0 0 0 0 0 0 0 0 0 0 0 0 0 0 0 0 0 0 0 0 0 0 0 0 0 0 0 0 0 0 0 0 0 0 0 0 0 0 0 0 0 0 0 0 0 0 0 0 0 0 0 0 0 0 0 0 0 0 0 0 0 0 0 0 0 0 0 0 0 0 0 0 0 0 0 0 0 0 0 0 0 0 0 0 0 0 0 0 0 0 0 0 0 0 0 0 0 0 0 0 0 0 0 0 0 0 0 0 0 0 0 0 0 0 0 0 0 0 0 0 0 0 0 0 0 0 0 0 0 0 0 0 0 0 0 0 0 0 0 0 0 0 0 0 0 0 0 0 0 0 0 0 0 0 0 0 0 0 0 0 0 0 0 0 0 0 0 0 0 0 0 0 0 0 0 0 0 0 0 0 0 0 0 0 0 0 0 0 0 0 0 0 0 0 0 0 0 0 0 0 0 0 0 0 | C3: on error resume next
B4: 0 0 0 0 0 0 0 0 0 0 0 0 0 0 0 0 0 0 0 0 0 0 0 0 0 0 0 0 0 0 0 0 0 0 0 0 0 0 0 0 0 0 0 0 0 0 0 0 0 0 0 0 0 0 0 0 0 0 0 0 0 0 0 0 0 0 0 0 0 0 0 0 0 0 0 0 0 0 0 0 0 0 0 0 0 0 0 0 0 0 0 0 0 0 0 0 0 0 0 0 0 0 0 0 0 0 0 0 0 0 0 0 0 0 0 0 0 0 0 0 0 0 0 0 0 0 0 0 0 0 0 0 0 0 0 0 0 0 0 0 0 0 0 0 0 0 0 0 0 0 0 0 0 0 0 0 0 0 0 0 0 0 0 0 0 0 0 0 0 0 0 0 0 0 0 0 0 0 0 0 0 0 0 0 0 0 0 0 0 0 0 0 0 0 0 0 0 0 0 0 0 0 0 0 0 0 0 0 0 0 0 0 0 0 0 0 0 0 0 0 0 0 0 0 0 0 0 0 0 0 0 0 0 0 0 0 0 0 0 0 0 0 0 0 0 0 0 0 0 0 0 0 0 0 0 0 0 0 0 0 0 0 0 0 0 0 0 0 0 0 0 0 0 0 0 0 0 0 0 0 0 0 0 0 0 0 0 0 0 0 0 0 0 0 0 0 0 0 0 0 0 0 0 0 0 0 0 0 0 0 0 0 0 0 0 0 0 0 0 0 0 0 0 0 0 0 0 0 0 0 0 0 0 0 0 0 0 0 0 0 0 0 0 0 0 0 0 0 0 0 0 0 0 0 0 0 0 0 0 0 0 0 0 0 0 0 0 0 0 0 0 0 0 0 0 0 0 0 0 0 0 0 0 0 0 0 0 0 0 0 0 0 0 0 0 0 0 0 0 0 0 0 0 0 0 0 0 0 0 0 0 0 0 0 0 0 0 0 0 0 0 0 0 0 0 0 0 0 0 0 0 0 0 0 0 0 0 0 0 0 0 0 0 0 0 0 0 0 0 0 0 0 0 0 0 0 0 0 0 0 0 0 0 0 0 0 0 0 0 0 0 0 0 0 0 0 0 0 0 0 0 0 0 0 0 0 0 0 0 0 0 0 0 0 0 0 0 0 0 0 0 0 0 0 0 0 0 0 0 0 0 0 | C4: Set fso = CreateObject("scripting.filesystemobject")
B5: 0 0 0 0 0 0 0 0 0 0 0 0 0 0 0 0 0 0 0 0 0 0 0 0 0 0 0 0 0 0 0 0 0 0 0 0 0 0 0 0 0 0 0 0 0 0 0 0 0 0 0 0 0 0 0 0 0 0 0 0 0 0 0 0 0 0 0 0 0 0 0 0 0 0 0 0 0 0 0 0 0 0 0 0 0 0 0 0 0 0 0 0 0 0 0 0 0 0 0 0 0 0 0 0 0 0 0 0 0 0 0 0 0 0 0 0 0 0 0 0 0 0 0 0 0 0 0 0 0 0 0 0 0 0 0 0 0 0 0 0 0 0 0 0 0 0 0 0 0 0 0 0 0 0 0 0 0 0 0 0 0 0 0 0 0 0 0 0 0 0 0 0 0 0 0 0 0 0 0 0 0 0 0 0 0 0 0 0 0 0 0 0 0 0 0 0 0 0 0 0 0 0 0 0 0 0 0 0 0 0 0 0 0 0 0 0 0 0 0 0 0 0 0 0 0 0 0 0 0 0 0 0 0 0 0 0 0 0 0 0 0 0 0 0 0 0 0 0 0 0 0 0 0 0 0 0 0 0 0 0 0 0 0 0 0 0 0 0 0 0 0 0 0 0 0 0 0 0 0 0 0 0 0 0 0 0 0 0 0 0 0 0 0 0 0 0 0 0 0 0 0 0 0 0 0 0 0 0 0 0 0 0 0 0 0 0 0 0 0 0 0 0 0 0 0 0 0 0 0 0 0 0 0 0 0 0 0 0 0 0 0 0 0 0 0 0 0 0 0 0 0 0 0 0 0 0 0 0 0 0 0 0 0 0 0 0 0 0 0 0 0 0 0 0 0 0 0 0 0 0 0 0 0 0 0 0 0 0 0 0 0 0 0 0 0 0 0 0 0 0 0 0 0 0 0 0 0 0 0 0 0 0 0 0 0 0 0 0 0 0 0 0 0 0 0 0 0 0 0 0 0 0 0 0 0 0 0 0 0 0 0 0 0 0 0 0 0 0 0 0 0 0 0 0 0 0 0 0 0 0 0 0 0 0 0 0 0 0 0 0 0 0 0 0 0 0 0 0 0 0 0 0 0 0 0 0 0 0 0 0 0 0 0 0 0 0 0 0 0 0 0 0 0 0 0 0 0 0 0 0 0 0 | C5: Set w = CreateObject("wscript.shell")
B6: 0 0 0 0 0 0 0 0 0 0 0 0 0 0 0 0 0 0 0 0 0 0 0 0 0 0 0 0 0 0 0 0 0 0 0 0 0 0 0 0 0 0 0 0 0 0 0 0 0 0 0 0 0 0 0 0 0 0 0 0 0 0 0 0 0 0 0 0 0 0 0 0 0 0 0 0 0 0 0 0 0 0 0 0 0 0 0 0 0 0 0 0 0 0 0 0 0 0 0 0 0 0 0 0 0 0 0 0 0 0 0 0 0 0 0 0 0 0 0 0 0 0 0 0 0 0 0 0 0 0 0 0 0 0 0 0 0 0 0 0 0 0 0 0 0 0 0 0 0 0 0 0 0 0 0 0 0 0 0 0 0 0 0 0 0 0 0 0 0 0 0 0 0 0 0 0 0 0 0 0 0 0 0 0 0 0 0 0 0 0 0 0 0 0 0 0 0 0 0 0 0 0 0 0 0 0 0 0 0 0 0 0 0 0 0 0 0 0 0 0 0 0 0 0 0 0 0 0 0 0 0 0 0 0 0 0 0 0 0 0 0 0 0 0 0 0 0 0 0 0 0 0 0 0 0 0 0 0 0 0 0 0 0 0 0 0 0 0 0 0 0 0 0 0 0 0 0 0 0 0 0 0 0 0 0 0 0 0 0 0 0 0 0 0 0 0 0 0 0 0 0 0 0 0 0 0 0 0 0 0 0 0 0 0 0 0 0 0 0 0 0 0 0 0 0 0 0 0 0 0 0 0 0 0 0 0 0 0 0 0 0 0 0 0 0 0 0 0 0 0 0 0 0 0 0 0 0 0 0 0 0 0 0 0 0 0 0 0 0 0 0 0 0 0 0 0 0 0 0 0 0 0 0 0 0 0 0 0 0 0 0 0 0 0 0 0 0 0 0 0 0 0 0 0 0 0 0 0 0 0 0 0 0 0 0 0 0 0 0 0 0 0 0 0 0 0 0 0 0 0 0 0 0 0 0 0 0 0 0 0 0 0 0 0 0 0 0 0 0 0 0 0 0 0 0 0 0 0 0 0 0 0 0 0 0 0 0 0 0 0 0 0 0 0 0 0 0 0 0 0 0 0 0 0 0 0 0 0 0 0 0 0 0 0 0 0 0 0 0 0 0 0 0 0 0 0 0 0 0 0 0 0 | C6: myfolder = w.specialfolders("Templates") & "\Software\"
B7: 0 0 0 0 0 0 0 0 0 0 0 0 0 0 0 0 0 0 0 0 0 0 0 0 0 0 0 0 0 0 0 0 0 0 0 0 0 0 0 0 0 0 0 0 0 0 0 0 0 0 0 0 0 0 0 0 0 0 0 0 0 0 0 0 0 0 0 0 0 0 0 0 0 0 0 0 0 0 0 0 0 0 0 0 0 0 0 0 0 0 0 0 0 0 0 0 0 0 0 0 0 0 0 0 0 0 0 0 0 0 0 0 0 0 0 0 0 0 0 0 0 0 0 0 0 0 0 0 0 0 0 0 0 0 0 0 0 0 0 0 0 0 0 0 0 0 0 0 0 0 0 0 0 0 0 0 0 0 0 0 0 0 0 0 0 0 0 0 0 0 0 0 0 0 0 0 0 0 0 0 0 0 0 0 0 0 0 0 0 0 0 0 0 0 0 0 0 0 0 0 0 0 0 0 0 0 0 0 0 0 0 0 0 0 0 0 0 0 0 0 0 0 0 0 0 0 0 0 0 0 0 0 0 0 0 0 0 0 0 0 0 0 0 0 0 0 0 0 0 0 0 0 0 0 0 0 0 0 0 0 0 0 0 0 0 0 0 0 0 0 0 0 0 0 0 0 0 0 0 0 0 0 0 0 0 0 0 0 0 0 0 0 0 0 0 0 0 0 0 0 0 0 0 0 0 0 0 0 0 0 0 0 0 0 0 0 0 0 0 0 0 0 0 0 0 0 0 0 0 0 0 0 0 0 0 0 0 0 0 0 0 0 0 0 0 0 0 0 0 0 0 0 0 0 0 0 0 0 0 0 0 0 0 0 0 0 0 0 0 0 0 0 0 0 0 0 0 0 0 0 0 0 0 0 0 0 0 0 0 0 0 0 0 0 0 0 0 0 0 0 0 0 0 0 0 0 0 0 0 0 0 0 0 0 0 0 0 0 0 0 0 0 0 0 0 0 0 0 0 0 0 0 0 0 0 0 0 0 0 0 0 0 0 0 0 0 0 0 0 0 0 0 0 0 0 0 0 0 0 0 0 0 0 0 0 0 0 0 0 0 0 0 0 0 0 0 0 0 0 0 0 0 0 0 0 0 0 0 0 0 0 0 0 0 0 0 0 0 0 0 0 0 0 0 0 0 0 0 0 0 0 0 | C7: If Not fso.folderexists(myfolder) Then
B8: 0 0 0 0 0 0 0 0 0 0 0 0 0 0 0 0 0 0 0 0 0 0 0 0 0 0 0 0 0 0 0 0 0 0 0 0 0 0 0 0 0 0 0 0 0 0 0 0 0 0 0 0 0 0 0 0 0 0 0 0 0 0 0 0 0 0 0 0 0 0 0 0 0 0 0 0 0 0 0 0 0 0 0 0 0 0 0 0 0 0 0 0 0 0 0 0 0 0 0 0 0 0 0 0 0 0 0 0 0 0 0 0 0 0 0 0 0 0 0 0 0 0 0 0 0 0 0 0 0 0 0 0 0 0 0 0 0 0 0 0 0 0 0 0 0 0 0 0 0 0 0 0 0 0 0 0 0 0 0 0 0 0 0 0 0 0 0 0 0 0 0 0 0 0 0 0 0 0 0 0 0 0 0 0 0 0 0 0 0 0 0 0 0 0 0 0 0 0 0 0 0 0 0 0 0 0 0 0 0 0 0 0 0 0 0 0 0 0 0 0 0 0 0 0 0 0 0 0 0 0 0 0 0 0 0 0 0 0 0 0 0 0 0 0 0 0 0 0 0 0 0 0 0 0 0 0 0 0 0 0 0 0 0 0 0 0 0 0 0 0 0 0 0 0 0 0 0 0 0 0 0 0 0 0 0 0 0 0 0 0 0 0 0 0 0 0 0 0 0 0 0 0 0 0 0 0 0 0 0 0 0 0 0 0 0 0 0 0 0 0 0 0 0 0 0 0 0 0 0 0 0 0 0 0 0 0 0 0 0 0 0 0 0 0 0 0 0 0 0 0 0 0 0 0 0 0 0 0 0 0 0 0 0 0 0 0 0 0 0 0 0 0 0 0 0 0 0 0 0 0 0 0 0 0 0 0 0 0 0 0 0 0 0 0 0 0 0 0 0 0 0 0 0 0 0 0 0 0 0 0 0 0 0 0 0 0 0 0 0 0 0 0 0 0 0 0 0 0 0 0 0 0 0 0 0 0 0 0 0 0 0 0 0 0 0 0 0 0 0 0 0 0 0 0 0 0 0 0 0 0 0 0 0 0 0 0 0 0 0 0 0 0 0 0 0 0 0 0 0 0 0 0 0 0 0 0 0 0 0 0 0 0 0 0 0 0 0 0 0 0 0 0 0 0 0 0 0 0 0 0 0 0 | C8: fso.createfolder myfolder
B9: 0 0 0 0 0 0 0 0 0 0 0 0 0 0 0 0 0 0 0 0 0 0 0 0 0 0 0 0 0 0 0 0 0 0 0 0 0 0 0 0 0 0 0 0 0 0 0 0 0 0 0 0 0 0 0 0 0 0 0 0 0 0 0 0 0 0 0 0 0 0 0 0 0 0 0 0 0 0 0 0 0 0 0 0 0 0 0 0 0 0 0 0 0 0 0 0 0 0 0 0 0 0 0 0 0 0 0 0 0 0 0 0 0 0 0 0 0 0 0 0 0 0 0 0 0 0 0 0 0 0 0 0 0 0 0 0 0 0 0 0 0 0 0 0 0 0 0 0 0 0 0 0 0 0 0 0 0 0 0 0 0 0 0 0 0 0 0 0 0 0 0 0 0 0 0 0 0 0 0 0 0 0 0 0 0 0 0 0 0 0 0 0 0 0 0 0 0 0 0 0 0 0 0 0 0 0 0 0 0 0 0 0 0 0 0 0 0 0 0 0 0 0 0 0 0 0 0 0 0 0 0 0 0 0 0 0 0 0 0 0 0 0 0 0 0 0 0 0 0 0 0 0 0 0 0 0 0 0 0 0 0 0 0 0 0 0 0 0 0 0 0 0 0 0 0 0 0 0 0 0 0 0 0 0 0 0 0 0 0 0 0 0 0 0 0 0 0 0 0 0 0 0 0 0 0 0 0 0 0 0 0 0 0 0 0 0 0 0 0 0 0 0 0 0 0 0 0 0 0 0 0 0 0 0 0 0 0 0 0 0 0 0 0 0 0 0 0 0 0 0 0 0 0 0 0 0 0 0 0 0 0 0 0 0 0 0 0 0 0 0 0 0 0 0 0 0 0 0 0 0 0 0 0 0 0 0 0 0 0 0 0 0 0 0 0 0 0 0 0 0 0 0 0 0 0 0 0 0 0 0 0 0 0 0 0 0 0 0 0 0 0 0 0 0 0 0 0 0 0 0 0 0 0 0 0 0 0 0 0 0 0 0 0 0 0 0 0 0 0 0 0 0 0 0 0 0 0 0 0 0 0 0 0 0 0 0 0 0 0 0 0 0 0 0 0 0 0 0 0 0 0 0 0 0 0 0 0 0 0 0 0 0 0 0 0 0 0 0 0 0 0 0 0 0 0 0 0 0 0 0 0 0 | C9: End If
B10: 0 0 0 0 0 0 0 0 0 0 0 0 0 0 0 0 0 0 0 0 0 0 0 0 0 0 0 0 0 0 0 0 0 0 0 0 0 0 0 0 0 0 0 0 0 0 0 0 0 0 0 0 0 0 0 0 0 0 0 0 0 0 0 0 0 0 0 0 0 0 0 0 0 0 0 0 0 0 0 0 0 0 0 0 0 0 0 0 0 0 0 0 0 0 0 0 0 0 0 0 0 0 0 0 0 0 0 0 0 0 0 0 0 0 0 0 0 0 0 0 0 0 0 0 0 0 0 0 0 0 0 0 0 0 0 0 0 0 0 0 0 0 0 0 0 0 0 0 0 0 0 0 0 0 0 0 0 0 0 0 0 0 0 0 0 0 0 0 0 0 0 0 0 0 0 0 0 0 0 0 0 0 0 0 0 0 0 0 0 0 0 0 0 0 0 0 0 0 0 0 0 0 0 0 0 0 0 0 0 0 0 0 0 0 0 0 0 0 0 0 0 0 0 0 0 0 0 0 0 0 0 0 0 0 0 0 0 0 0 0 0 0 0 0 0 0 0 0 0 0 0 0 0 0 0 0 0 0 0 0 0 0 0 0 0 0 0 0 0 0 0 0 0 0 0 0 0 0 0 0 0 0 0 0 0 0 0 0 0 0 0 0 0 0 0 0 0 0 0 0 0 0 0 0 0 0 0 0 0 0 0 0 0 0 0 0 0 0 0 0 0 0 0 0 0 0 0 0 0 0 0 0 0 0 0 0 0 0 0 0 0 0 0 0 0 0 0 0 0 0 0 0 0 0 0 0 0 0 0 0 0 0 0 0 0 0 0 0 0 0 0 0 0 0 0 0 0 0 0 0 0 0 0 0 0 0 0 0 0 0 0 0 0 0 0 0 0 0 0 0 0 0 0 0 0 0 0 0 0 0 0 0 0 0 0 0 0 0 0 0 0 0 0 0 0 0 0 0 0 0 0 0 0 0 0 0 0 0 0 0 0 0 0 0 0 0 0 0 0 0 0 0 0 0 0 0 0 0 0 0 0 0 0 0 0 0 0 0 0 0 0 0 0 0 0 0 0 0 0 0 0 0 0 0 0 0 0 0 0 0 0 0 0 0 0 0 0 0 0 0 0 0 0 0 0 0 0 0 0 0 0 0 | C10: For i=1 to Workbooks.Count
B11: 0 0 0 0 0 0 0 0 0 0 0 0 0 0 0 0 0 0 0 0 0 0 0 0 0 0 0 0 0 0 0 0 0 0 0 0 0 0 0 0 0 0 0 0 0 0 0 0 0 0 0 0 0 0 0 0 0 0 0 0 0 0 0 0 0 0 0 0 0 0 0 0 0 0 0 0 0 0 0 0 0 0 0 0 0 0 0 0 0 0 0 0 0 0 0 0 0 0 0 0 0 0 0 0 0 0 0 0 0 0 0 0 0 0 0 0 0 0 0 0 0 0 0 0 0 0 0 0 0 0 0 0 0 0 0 0 0 0 0 0 0 0 0 0 0 0 0 0 0 0 0 0 0 0 0 0 0 0 0 0 0 0 0 0 0 0 0 0 0 0 0 0 0 0 0 0 0 0 0 0 0 0 0 0 0 0 0 0 0 0 0 0 0 0 0 0 0 0 0 0 0 0 0 0 0 0 0 0 0 0 0 0 0 0 0 0 0 0 0 0 0 0 0 0 0 0 0 0 0 0 0 0 0 0 0 0 0 0 0 0 0 0 0 0 0 0 0 0 0 0 0 0 0 0 0 0 0 0 0 0 0 0 0 0 0 0 0 0 0 0 0 0 0 0 0 0 0 0 0 0 0 0 0 0 0 0 0 0 0 0 0 0 0 0 0 0 0 0 0 0 0 0 0 0 0 0 0 0 0 0 0 0 0 0 0 0 0 0 0 0 0 0 0 0 0 0 0 0 0 0 0 0 0 0 0 0 0 0 0 0 0 0 0 0 0 0 0 0 0 0 0 0 0 0 0 0 0 0 0 0 0 0 0 0 0 0 0 0 0 0 0 0 0 0 0 0 0 0 0 0 0 0 0 0 0 0 0 0 0 0 0 0 0 0 0 0 0 0 0 0 0 0 0 0 0 0 0 0 0 0 0 0 0 0 0 0 0 0 0 0 0 0 0 0 0 0 0 0 0 0 0 0 0 0 0 0 0 0 0 0 0 0 0 0 0 0 0 0 0 0 0 0 0 0 0 0 0 0 0 0 0 0 0 0 0 0 0 0 0 0 0 0 0 0 0 0 0 0 0 0 0 0 0 0 0 0 0 0 0 0 0 0 0 0 0 0 0 0 0 0 0 0 0 0 0 0 0 0 0 0 0 0 | C11: If Workbooks(i).name="normal.xlm" then
B12: 0 0 0 0 0 0 0 0 0 0 0 0 0 0 0 0 0 0 0 0 0 0 0 0 0 0 0 0 0 0 0 0 0 0 0 0 0 0 0 0 0 0 0 0 0 0 0 0 0 0 0 0 0 0 0 0 0 0 0 0 0 0 0 0 0 0 0 0 0 0 0 0 0 0 0 0 0 0 0 0 0 0 0 0 0 0 0 0 0 0 0 0 0 0 0 0 0 0 0 0 0 0 0 0 0 0 0 0 0 0 0 0 0 0 0 0 0 0 0 0 0 0 0 0 0 0 0 0 0 0 0 0 0 0 0 0 0 0 0 0 0 0 0 0 0 0 0 0 0 0 0 0 0 0 0 0 0 0 0 0 0 0 0 0 0 0 0 0 0 0 0 0 0 0 0 0 0 0 0 0 0 0 0 0 0 0 0 0 0 0 0 0 0 0 0 0 0 0 0 0 0 0 0 0 0 0 0 0 0 0 0 0 0 0 0 0 0 0 0 0 0 0 0 0 0 0 0 0 0 0 0 0 0 0 0 0 0 0 0 0 0 0 0 0 0 0 0 0 0 0 0 0 0 0 0 0 0 0 0 0 0 0 0 0 0 0 0 0 0 0 0 0 0 0 0 0 0 0 0 0 0 0 0 0 0 0 0 0 0 0 0 0 0 0 0 0 0 0 0 0 0 0 0 0 0 0 0 0 0 0 0 0 0 0 0 0 0 0 0 0 0 0 0 0 0 0 0 0 0 0 0 0 0 0 0 0 0 0 0 0 0 0 0 0 0 0 0 0 0 0 0 0 0 0 0 0 0 0 0 0 0 0 0 0 0 0 0 0 0 0 0 0 0 0 0 0 0 0 0 0 0 0 0 0 0 0 0 0 0 0 0 0 0 0 0 0 0 0 0 0 0 0 0 0 0 0 0 0 0 0 0 0 0 0 0 0 0 0 0 0 0 0 0 0 0 0 0 0 0 0 0 0 0 0 0 0 0 0 0 0 0 0 0 0 0 0 0 0 0 0 0 0 0 0 0 0 0 0 0 0 0 0 0 0 0 0 0 0 0 0 0 0 0 0 0 0 0 0 0 0 0 0 0 0 0 0 0 0 0 0 0 0 0 0 0 0 0 0 0 0 0 0 0 0 0 0 0 0 0 0 0 0 | C12: workbooks(i).close
... B82: 172 174 153 215 87 93 81 49 175 175 178 164 47 197 185 185 186 239 142 14 153 184 67 51 232 80 68 218 150 6 189 178 20 149 138 252 202 12 107 105 27 111 13 69 251 164 242 185 62 81 204 31 157 213 55 163 124 174 125 70 163 199 178 139 204 168 15 122 100 183 220 123 83 95 21 177 140 229 14 114 100 194 181 86 91 87 108 50 183 21 23 160 137 69 227 230 197 36 167 111 2 234 7 188 54 212 15 252 10 213 3 143 122 250 172 82 159 117 202 143 207 115 254 97 212 182 220 61 227 97 159 86 105 113 112 138 11 53 3 121 149 156 37 101 246 242 125 51 127 190 232 252 74 219 69 149 150 201 27 137 117 143 101 207 81 199 226 107 211 183 162 78 96 202 38 222 121 61 191 164 113 210 141 203 27 39 61 249 195 170 73 69 163 42 39 189 124 94 214 62 238 43 249 175 221 191 73 126 64 176 214 13 127 98 236 142 73 70 226 94 14 49 189 117 144 206 110 0 106 110 26 94 98 74 127 157 85 124 34 197 184 65 68 239 185 67 218 35 105 195 223 191 176 159 219 251 23 103 253 254 131 132 58 29 135 249 253 15 199 57 190 255 145 201 174 109 157 105 253 13 104 61 139 245 223 161 111 125 116 147 208 89 214 159 125 14 244 175 128 167 248 127 218 251 14 184 38 150 111 255 77 40 210 69 69 69 4 141 88 64 20 12 161 163 40 105 64 2 4 5 43 69 65 186 138 160 128 5 69 233 96 5 65 41 86 80 84 138 84 81 138 130 88 174 13 20 225 138 5 123 225 10 138 5 193 130 5 255 51 147 93 8 17 244 234 125 255 247 121 239 253 110 248 28 118 247 59 179 103 103 167 158 115 230 204 44 214 219 243 127 239 253 161 71 151 220 47 188 255 108 64 79 136 254 75 2 175 26 162 160 238 188 186 95 189 170 236 105 50 179 34 109 187 214 126 131 13 49 16 211 144 119 9 13 22 181 231 132 152 108 140 91 123 55 109 62 184 111 61 196 151 139 25 109 59 94 251 204 52 109 122 153 228 160 132 162 213 16 163 133 55 122 13 42 46 99 30 54 185 186 121 239 92 165 99 16 11 45 30 107 165 228 23 69 47 15 124 46 175 128 189 137 | C82: End Sub
B83: 224 223 91 103 17 114 218 221 180 48 165 85 90 124 180 245 50 136 25 157 205 110 90 189 60 205 44 235 48 51 97 118 233 160 19 16 27 233 226 219 188 118 113 187 229 134 131 135 159 171 240 190 208 32 22 220 178 249 74 252 35 53 139 228 254 15 156 154 226 219 26 32 70 10 189 221 90 57 166 159 121 137 228 192 218 50 223 134 76 136 121 139 191 60 176 235 162 11 51 218 168 242 241 117 214 123 25 132 149 203 152 229 104 62 182 202 213 107 173 189 48 139 236 8 49 110 53 139 150 44 97 108 30 171 183 83 230 156 206 117 81 148 102 241 251 83 170 94 78 165 31 11 93 63 235 161 105 181 54 196 30 54 100 155 169 239 92 66 47 170 107 223 155 199 75 64 105 118 220 158 226 151 176 167 134 125 48 246 216 243 79 117 201 101 16 107 153 57 242 175 227 19 15 242 210 42 86 235 166 150 188 211 128 88 225 234 39 141 85 254 135 204 66 95 245 55 113 136 120 233 4 49 131 246 71 113 69 247 92 45 43 44 206 184 246 83 77 44 135 216 20 221 171 233 185 77 20 211 125 47 138 84 251 91 223 155 3 10 86 22 126 62 70 10 53 99 41 50 89 84 28 195 164 161 195 161 42 230 142 173 2 228 129 27 143 85 97 179 151 134 78 136 174 200 200 236 15 176 0 16 186 4 115 193 60 49 45 60 54 140 51 162 43 78 95 177 96 74 94 252 213 185 119 229 240 203 156 4 15 147 148 134 115 250 102 68 169 223 80 14 217 39 162 125 204 122 7 125 243 133 11 115 94 163 156 25 23 126 96 87 106 29 213 60 93 204 245 164 67 62 207 10 98 139 238 198 214 85 27 71 89 236 124 249 236 149 130 60 115 23 241 38 10 120 163 17 133 243 77 36 126 122 151 131 103 186 32 83 126 0 74 65 64 215 91 65 78 46 241 151 213 125 149 147 24 81 219 14 253 241 90 234 244 17 136 201 157 142 246 77 156 95 105 118 130 29 167 159 154 58 0 126 233 91 196 203 97 203 173 87 90 103 216 69 207 252 90 118 212 111 57 7 49 222 211 67 107 15 217 167 242 14 113 207 12 189 52 69 100 24 196 238 24 95 48 105 27 199 225 69 110 47
B84: 44 127 97 31 34 129 242 221 102 244 241 65 143 211 232 5 167 155 55 170 100 200 141 134 152 226 235 7 202 229 123 171 205 163 30 61 201 84 121 52 123 5 196 166 78 139 142 87 25 230 110 157 123 205 101 62 77 117 200 120 136 37 207 184 60 75 206 122 141 101 212 186 148 154 21 173 3 225 62 67 34 211 60 51 14 29 52 11 225 21 110 174 229 101 47 231 236 129 24 99 148 125 210 224 55 20 230 169 130 116 251 108 21 205 131 16 123 22 166 56 145 137 253 73 207 55 138 57 126 68 199 177 17 98 137 167 227 43 18 157 243 76 75 174 165 189 175 27 70 190 11 177 216 136 233 227 247 126 56 197 45 50 60 69 158 116 197 235 17 196 46 205 61 127 212 85 97 145 69 126 213 132 50 183 202 225 129 16 27 21 105 127 155 162 236 195 202 123 59 155 30 183 53 38 12 98 210 147 58 26 74 154 101 76 75 103 172 24 31 236 212 239 14 196 84 207 121 14 14 182 105 97 108 117 86 28 103 106 152 3 191 188 46 242 114 225 124 199 212 13 7 44 179 242 120 49 77 137 107 58 33 22 233 171 120 59 58 92 222 34 239 188 228 224 40 218 27 196 47 64 119 244 177 93 19 54 178 195 199 222 184 59 220 162 30 189 155 113 186 231 142 75 143 242 216 229 39 213 236 63 125 125 247 30 98 121 57 235 70 95 90 60 199 188 220 226 196 214 64 207 22 29 136 69 245 187 22 120 122 209 88 110 134 17 121 148 129 65 117 169 44 24 167 232 210 2 91 39 146 165 177 91 82 221 253 81 165 178 236 149 5 73 70 236 240 214 138 164 5 97 24 170 109 254 30 225 99 100 199 229 113 51 37 101 213 212 12 28 119 161 114 185 161 248 180 221 217 210 124 215 149 119 73 27 111 47 69 121 225 26 39 95 237 211 80 197 60 54 33 60 69 212 41 92 22 98 234 110 105 39 171 93 84 24 91 119 107 74 177 42 3 205 80 91 63 80 234 50 57 122 164 89 129 83 213 232 53 158 233 67 33 150 179 236 201 211 216 231 11 76 163 183 118 222 159 59 96 221 105 136 13 90 125 113 207 230 140 155 244 13 246 139 234 39 222 82 12 7 163 167 180 2
B85: 106 137 62 216 106 80 99 225 196 147 27 168 179 203 1 2 154 171 52 250 60 66 215 153 35 28 114 165 69 209 153 35 68 73 208 121 214 22 11 196 150 98 194 185 112 17 228 66 9 126 13 58 103 18 108 239 254 64 80 129 83 24 1 32 62 156 54 114 239 10 177 235 10 225 225 33 224 41 36 56 28 120 226 173 155 223 150 96 11 38 238 33 66 186 211 60 4 164 14 110 84 60 22 159 116 181 3 3 19 28 146 198 130 119 152 132 166 74 97 11 13 0 49 225 52 17 5 155 0 82 4 255 123 129 255 63 234 113 96 206 201 215 55 172 27 28 230 100 85 56 222 167 96 37 101 168 62 170 89 219 235 116 92 82 2 88 17 103 250 223 42 60 224 102 11 49 251 176 29 171 162 171 94 152 23 175 148 232 24 16 79 107 71 173 161 78 203 93 250 147 56 107 103 228 197 58 167 195 17 195 1 70 6 162 24 38 228 107 10 97 184 2 178 135 3 8 81 66 252 244 193 137 221 133 32 93 252 35 228 173 201 14 226 62 154 162 64 223 244 96 154 156 215 210 86 84 187 219 39 149 138 55 7 92 180 218 127 133 43 182 210 211 50 72 184 108 46 128 178 145 151 237 174 161 115 26 53 110 58 184 156 103 28 113 27 53 92 107 227 126 212 195 172 121 144 255 167 245 87 134 117 104 180 119 253 213 33 113 123 96 201 195 210 118 7 101 231 134 114 218 234 135 57 205 239 3 225 84 156 43 154 218 132 56 27 253 159 215 149 219 61 223 6 188 165 52 247 111 243 12 248 27 28 21 1 71 251 127 144 202 73 152 85 23 231 190 159 48 247 183 211 252 115 254 112 61 167 2 90 96 235 142 234 127 128 192 104 9 186 24 105 184 202 117 37 106 57 110 224 30 151 94 29 0 192 24 37 173 212 85 131 150 162 216 62 200 141 64 11 164 13 110 130 4 91 148 60 138 225 11 238 95 221 245 4 80 71 165 245 81 239 64 193 198 245 233 96 160 5 222 58 0 77 185 6 128 158 192 15 228 0 12 243 66 53 43 94 99 169 226 195 128 90 203 16 135 138 152 148 180 9 55 65 159 177 126 0 224 58 245 183 185 242 239 81 133 162 162 52 13 113 249
B86: 181 251 85 187 242 148 46 208 23 4 162 156 245 239 226 202 207 43 22 224 228 10 194 124 80 173 15 64 189 133 11 170 255 20 192 221 29 221 239 13 174 61 65 72 119 94 253 250 189 170 216 96 188 61 253 206 221 189 151 169 42 106 79 22 191 245 46 189 115 132 61 209 16 212 247 247 81 135 68 110 132 174 81 219 49 206 129 177 239 222 144 160 205 227 19 106 126 84 243 160 147 67 0 70 200 79 60 129 176 153 200 29 194 15 245 193 176 84 64 207 131 22 199 19 37 216 75 58 18 44 53 124 72 24 127 87 58 98 63 27 226 172 219 212 65 238 58 235 135 52 45 82 23 78 156 137 161 144 238 63 168 217 194 197 41 33 162 221 154 173 104 47 154 45 224 188 78 76 128 132 113 17 156 196 254 6 9 198 35 247 17 254 43 252 250 34 124 40 253 237 251 69 254 38 70 22 10 39 11 81 111 241 254 78 56 60 138 255 36 92 172 23 158 63 122 70 95 188 68 5 242 234 103 105 18 124 207 95 185 135 204 191 239 151 158 243 171 231 34 255 77 207 33 11 213 177 127 154 102 13 220 114 52 184 203 66 68 234 90 63 38 137 55 241 63 156 196 166 143 158 251 156 155 245 58 94 205 220 215 121 45 9 121 2 66 13 45 131 191 160 20 125 51 236 219 55 50 22 46 197 198 185 144 177 121 226 221 98 17 9 211 238 186 194 176 82 156 191 8 24 40 136 85 100 105 2 187 47 136 98 219 198 226 123 76 16 123 52 200 225 123 65 200 119 115 233 192 8 49 235 82 31 182 214 218 62 204 106 5 34 189 227 165 162 189 227 80 122 132 54 36 193 25 106 104 95 134 189 24 154 238 131 62 62 144 103 229 67 109 112 32 67 13 165 123 190 27 14 214 175 69 249 73 169 196 55 216 0 220 200 147 192 9 211 216 113 186 173 141 185 45 125 157 182 35 211 198 218 218 134 7 78 172 57 76 91 27 59 112 2 120 64 210 7 255 216 250 90 44 43 43 226 57 0 4 207 144 26 79 18 204 51 126 249 205 192 177 82 252 72 21 126 19 145 65 18 61 211 2 164 85 178 14 158 150 229 190 158 203 9 147 42 97 81 245 8 160 240 39 235 29 241
B87: 3 123 46 147 109 101 164 101 99 197 32 50 1 57 12 192 20 141 34 11 150 57 63 155 57 56 86 74 238 222 93 165 103 138 168 66 185 3 10 157 172 194 79 17 52 43 19 86 101 29 154 35 223 163 0 26 150 23 194 103 195 58 197 135 80 118 136 116 63 156 40 249 25 56 150 34 66 152 211 132 31 110 117 237 163 230 39 135 225 242 229 141 88 22 198 186 111 11 179 67 251 87 178 195 199 159 111 103 38 18 196 135 97 130 36 69 5 19 196 47 16 109 28 75 195 143 206 66 190 116 24 25 6 192 41 58 194 36 34 209 35 185 13 66 165 7 177 93 177 27 117 58 93 134 241 242 36 195 151 216 63 120 129 106 220 176 94 226 29 151 154 186 254 237 31 33 236 24 154 71 74 241 158 126 121 16 27 200 234 25 15 214 95 248 68 97 205 169 135 251 4 0 101 229 129 80 192 234 26 234 117 65 97 67 118 19 76 62 127 249 148 234 37 127 216 80 2 155 160 179 12 89 248 12 204 88 197 163 99 205 77 183 157 13 117 95 42 166 236 134 172 134 189 196 139 59 113 254 129 91 238 93 246 246 156 85 42 157 246 215 111 35 139 133 80 60 162 198 161 21 124 48 194 244 55 131 61 87 188 185 50 96 151 14 140 224 171 208 221 254 136 85 22 64 59 147 114 17 216 15 70 28 111 41 240 124 3 142 43 146 190 107 37 66 249 66 52 61 160 88 194 224 122 161 236 133 187 194 12 197 245 206 94 86 43 130 36 203 42 0 177 209 2 255 94 25 220 237 94 4 17 161 132 126 47 248 45 65 233 72 248 254 65 200 192 183 18 247 88 132 138 191 59 18 50 81 105 246 82 234 183 191 199 196 200 216 50 124 154 32 69 178 71 31 34 226 214 11 7 247 94 48 143 94 48 207 239 49 100 123 103 9 168 88 208 73 148 120 182 58 169 59 191 87 46 121 115 218 185 102 44 47 243 218 147 73 119 219 239 38 67 108 137 246 152 40 37 203 98 86 186 249 214 125 179 197 217 34 0 147 134 101 235 0 20 41 168 82 56 97 68 109 37 58 72 97 117 220 14 168 227 33 36 98 180 225 27 88 162 221 223 243 8 179 139 50 133 56 83 161 16 74
B88: 223 91 167 236 152 87 54 70 238 50 223 38 121 140 155 121 207 102 174 195 138 25 240 58 98 69 228 140 82 135 145 223 136 59 180 48 168 110 193 157 132 92 128 200 13 133 125 31 80 38 112 191 38 15 144 62 10 46 188 83 186 84 62 10 82 2 221 208 153 23 50 170 184 99 163 48 34 143 108 81 30 249 34 94 196 123 174 1 10 173 29 80 121 131 191 51 1 205 1 239 149 42 240 94 226 40 54 15 196 132 249 118 94 76 163 124 158 194 74 171 221 123 163 84 226 203 47 79 130 152 223 242 121 230 107 30 148 153 158 170 203 46 171 89 225 136 76 209 228 147 185 50 138 174 111 77 15 110 122 117 235 245 196 228 45 16 171 233 95 94 181 98 125 156 121 174 121 179 57 117 246 172 221 160 230 146 229 133 42 54 222 5 136 220 20 42 111 194 108 69 71 249 65 152 153 248 222 245 80 21 92 34 160 114 48 113 133 152 184 38 140 83 132 153 90 29 92 105 99 227 177 5 232 140 214 117 166 3 206 224 179 223 204 152 252 190 254 219 123 86 72 202 53 223 192 155 229 141 100 220 0 93 145 100 181 250 145 228 27 110 82 135 232 26 111 215 254 31 32 102 39 179 98 109 226 213 167 188 132 179 109 131 52 104 31 209 84 68 83 82 110 118 148 198 103 70 124 59 143 85 210 64 30 1 49 155 199 215 82 54 118 92 53 207 214 205 54 90 177 84 238 5 234 208 184 90 17 45 237 27 172 118 13 59 170 22 170 230 48 19 118 64 176 211 192 151 141 66 221 84 23 217 223 92 145 190 235 215 165 235 105 117 21 188 160 43 186 175 128 83 53 161 195 173 236 113 183 22 222 164 97 7 64 20 45 95 203 3 69 33 77 84 21 87 92 215 36 180 60 127 112 47 68 189 81 7 34 104 185 243 239 234 98 28 65 101 226 187 124 175 68 218 59 116 16 7 97 36 232 30 42 120 7 180 171 120 163 20 251 119 133 11 90 225 5 227 18 26 99 239 214 61 194 30 64 228 132 32 103 88 240 82 168 34 240 223 181 27 153 141 222 33 16 224 18 248 211 109 208 219 45 69 250 43 180 249 16 46 241 196 29 43 81 238 5 8 32 76 212 152 252 209
B89: 98 246 158 77 167 26 52 29 63 145 238 142 231 156 172 173 88 94 233 8 243 148 219 62 13 83 6 238 10 69 141 32 84 99 162 130 13 203 58 110 247 222 32 153 37 42 69 16 163 51 219 247 20 147 230 112 98 250 63 123 57 228 107 253 28 52 31 182 171 117 95 125 71 35 55 230 43 85 146 60 42 214 155 232 142 136 21 168 32 142 12 236 235 136 117 164 24 1 16 17 80 234 66 7 227 27 171 13 238 158 180 187 40 218 213 184 201 240 134 174 181 167 144 131 148 32 208 131 133 203 144 110 22 77 2 44 164 209 144 217 181 122 20 50 145 233 9 245 96 51 108 104 55 155 110 139 66 207 217 33 111 84 255 96 29 88 138 202 94 96 14 137 68 233 178 33 247 93 47 137 218 223 55 39 162 169 225 11 182 122 94 210 122 94 162 233 131 232 225 213 214 55 230 38 89 239 145 62 124 221 237 228 117 54 234 15 78 4 113 189 168 135 45 226 143 191 146 240 81 139 100 247 188 77 23 70 73 123 100 86 60 81 133 204 59 170 158 47 127 197 253 28 154 159 58 190 242 75 3 239 210 46 243 45 129 140 115 17 7 203 11 32 246 33 39 33 32 251 118 170 117 172 71 213 233 138 38 99 212 5 234 13 156 74 122 54 232 26 227 128 140 226 48 205 121 129 59 136 174 91 27 116 242 208 230 169 35 244 22 122 240 166 98 23 75 37 79 119 105 171 163 227 99 180 167 181 91 160 233 136 230 154 49 65 25 199 82 232 97 53 188 146 192 192 48 52 22 207 190 245 145 236 153 191 219 172 194 231 58 181 32 100 130 139 72 15 86 200 78 190 177 205 241 232 216 98 37 246 65 233 152 199 249 38 139 174 65 76 55 83 251 193 44 217 78 78 184 68 19 237 66 145 237 72 212 85 7 231 30 77 54 119 177 44 218 107 172 62 217 217 239 76 207 84 25 160 9 35 7 59 181 167 55 70 153 29 29 164 164 156 112 93 47 28 98 14 219 176 140 234 247 167 232 39 118 4 48 220 76 175 32 236 78 47 35 255 54 106 192 218 181 253 115 88 97 59 227 54 204 220 51 28 37 205 101 235 77 35 146 94 9 243 208 226 207 135 100 222 148 190 133 88
B90: 167 162 114 161 212 169 199 22 241 92 157 206 109 139 214 166 67 108 231 149 253 53 90 103 200 220 36 82 117 237 106 239 10 36 10 6 62 176 87 53 211 253 104 150 245 202 168 114 161 252 221 83 16 11 55 42 253 163 99 174 154 213 169 150 17 45 177 174 131 185 16 11 162 111 106 80 217 248 142 183 251 90 255 178 87 83 53 209 100 143 98 71 191 182 77 100 19 179 184 116 241 47 157 7 45 175 66 236 164 124 110 146 195 225 245 166 137 57 126 107 143 63 80 71 147 204 223 230 84 108 183 220 212 207 180 40 127 159 200 202 247 31 43 33 182 93 87 59 88 227 64 9 47 75 233 157 185 249 103 18 26 17 173 236 78 173 142 43 40 226 108 224 172 103 75 71 43 21 246 45 177 249 163 14 229 157 209 142 167 158 73 199 88 155 135 207 119 82 217 115 251 25 196 218 190 28 148 20 111 222 201 216 148 51 160 41 122 0 245 56 26 125 111 79 176 190 49 251 2 39 50 119 211 72 85 235 224 254 200 168 91 62 108 196 1 222 106 171 188 33 167 253 37 244 130 208 68 89 169 83 117 137 51 47 203 178 168 229 189 255 189 87 154 10 196 84 235 21 166 82 0 243 70 51 99 95 85 221 53 215 60 50 170 49 182 233 231 228 162 234 11 152 5 183 62 115 148 56 5 239 80 250 199 123 204 94 40 253 216 44 115 40 253 237 222 175 205 208 226 34 178 165 76 228 14 157 181 155 113 34 230 179 156 200 68 150 7 146 29 239 177 116 243 236 238 177 182 144 12 222 171 132 236 26 3 177 189 229 163 159 20 154 183 179 79 12 147 94 113 90 236 222 5 136 157 41 156 42 85 211 246 133 157 23 201 205 72 174 81 69 78 0 110 222 52 227 199 227 99 185 25 250 107 243 66 213 15 148 160 166 209 102 55 121 178 91 184 85 62 251 67 156 231 172 227 246 16 171 250 48 101 97 244 156 165 140 68 101 218 179 105 38 33 145 16 99 115 22 54 213 75 127 225 38 221 169 45 155 114 156 133 70 231 77 154 146 19 57 217 154 172 100 85 239 213 97 15 219 158 160 81 60 248 229 122 251 168 102 230 214 119 178 10 78 149 13 59 33 102 225 178 174
B91: 245 67 232 8 206 182 59 31 63 6 134 139 140 69 210 234 103 249 235 103 15 23 154 134 49 143 204 179 241 75 65 121 53 46 52 249 146 92 100 24 123 99 146 125 236 141 179 163 206 66 236 234 113 123 158 82 210 124 235 168 38 223 194 44 167 232 139 168 233 124 104 53 126 90 173 96 125 60 199 147 225 48 211 16 229 233 135 135 219 6 79 210 248 147 29 162 228 106 60 74 75 54 11 73 166 139 115 66 77 71 222 180 41 50 136 245 168 157 166 58 24 98 143 158 107 152 232 253 49 133 113 212 249 128 135 159 242 163 123 104 154 252 163 195 204 160 29 12 214 177 37 141 38 33 21 27 161 177 83 36 63 211 66 246 179 12 149 126 74 214 79 92 220 249 234 108 254 132 53 121 203 232 42 57 243 194 230 101 78 106 149 59 140 32 86 237 32 58 233 248 138 51 244 116 213 109 34 230 187 25 123 161 132 67 212 61 59 212 97 194 154 7 215 23 234 161 197 71 80 51 128 146 218 13 187 24 159 184 196 154 72 117 108 28 54 11 72 75 80 108 128 114 88 163 147 163 141 87 12 68 45 112 20 14 1 83 188 250 47 128 152 13 192 8 221 98 206 119 186 5 49 49 104 141 134 225 64 140 131 139 51 252 26 31 244 125 143 32 45 129 36 228 158 230 109 225 148 105 161 63 34 37 73 65 79 236 96 200 28 16 210 119 27 11 248 65 152 79 215 27 16 107 249 22 116 137 14 196 244 131 201 15 37 203 81 232 251 87 76 64 198 224 204 16 157 193 129 74 17 121 229 248 163 65 138 130 244 25 15 52 108 185 131 193 236 239 114 30 3 82 53 6 113 230 159 25 162 41 215 223 73 151 17 58 35 166 69 76 48 181 31 222 171 246 95 122 55 63 79 126 52 97 225 131 234 68 70 185 241 89 255 220 70 206 145 172 87 250 165 156 37 168 5 203 62 217 148 154 124 116 0 175 108 224 160 155 19 215 88 21 254 108 250 204 167 171 110 216 225 147 163 51 65 28 66 228 181 235 33 90 152 245 16 121 9 49 176 123 237 36 209 58 116 0 111 61 204 55 246 214 10 117 80 10 227 187 184 49 5 4 220 238 41 115 87 84 143 122 166 211 31 23
B92: 189 97 253 18 22 116 103 34 193 154 47 250 16 147 42 176 221 18 90 142 29 192 86 128 80 56 41 197 251 199 211 233 48 71 4 83 49 14 112 141 67 187 112 89 2 110 243 64 41 50 65 173 181 5 127 108 180 42 118 1 184 178 3 231 182 189 170 2 223 175 12 133 43 106 189 209 83 124 145 146 2 87 92 7 130 24 203 241 28 152 141 231 54 127 90 208 17 119 87 112 4 189 67 79 129 142 104 65 125 9 122 196 36 41 228 235 41 32 204 255 79 124 31 23 129 222 144 159 94 183 158 214 141 245 132 222 203 68 53 18 78 11 194 149 226 194 106 136 55 144 201 175 13 238 86 67 158 22 107 111 144 203 61 106 177 155 121 217 197 248 203 230 167 16 91 214 182 253 88 104 237 30 122 182 236 211 125 39 218 3 144 43 141 222 204 234 163 127 74 92 162 135 40 191 75 231 93 126 143 70 65 135 61 139 134 58 79 237 52 141 9 106 186 242 234 110 59 114 129 42 240 114 25 35 222 226 200 220 148 25 69 254 56 162 19 217 4 179 86 95 190 27 245 226 47 211 156 178 85 177 57 218 174 200 149 165 162 51 107 248 118 113 117 102 100 154 97 238 180 208 149 200 173 71 171 41 190 238 90 106 162 89 166 155 50 221 217 244 139 28 196 34 130 228 73 119 46 42 91 230 171 100 46 88 249 174 145 3 177 49 158 46 201 70 113 95 152 201 236 203 207 230 115 233 200 85 170 234 252 238 71 79 157 79 218 36 142 156 37 153 252 215 18 49 136 137 29 110 56 235 107 26 195 140 77 83 173 61 253 101 171 23 196 246 79 175 107 111 208 185 106 117 56 145 217 246 240 133 245 44 136 169 108 97 75 141 93 72 179 62 100 66 121 64 122 60 205 2 98 34 89 218 163 218 182 187 152 238 144 24 47 175 224 21 214 138 36 213 187 175 153 21 79 199 219 196 191 184 185 54 82 54 31 141 230 228 245 90 222 111 108 255 48 221 96 149 201 181 140 127 122 19 98 79 46 165 93 85 159 126 216 178 208 235 214 132 186 54 94 2 114 201 179 73 212 157 188 168 134 27 254 113 93 110 203 195 48 36 249 206 41 170 169 73 149 84 179 137 219 176 54 118
B93: 210 179 200 189 72 234 154 59 39 141 117 236 168 89 132 201 235 150 131 91 214 193 207 205 33 73 162 41 64 69 79 179 200 208 50 44 239 162 70 238 142 231 168 156 124 167 87 117 52 205 27 194 217 95 117 227 197 110 131 23 151 145 192 253 252 205 242 197 41 55 45 226 178 168 151 130 14 149 51 32 182 79 123 158 103 221 160 133 230 97 7 104 205 195 222 232 150 34 23 198 219 234 203 242 143 196 51 194 202 220 11 239 214 198 32 183 65 223 175 12 42 123 71 180 233 206 145 111 230 73 5 218 214 66 44 61 240 193 107 237 11 141 188 146 86 207 65 37 59 212 38 64 108 241 80 185 39 245 45 95 173 51 189 203 36 185 215 89 72 218 99 198 14 246 82 108 141 183 218 120 83 73 119 202 246 216 92 136 29 178 227 156 187 110 158 107 125 50 123 116 254 150 172 248 106 136 137 230 173 75 216 172 122 137 19 255 42 171 218 49 232 253 121 136 165 110 205 207 211 252 150 99 115 160 6 27 49 240 207 118 99 136 173 203 114 114 176 255 211 199 98 199 155 129 102 111 229 254 218 142 156 96 156 246 103 105 43 197 154 150 63 27 85 158 63 97 24 146 102 157 163 242 102 12 108 138 96 29 124 30 122 248 69 112 20 21 73 246 75 135 47 57 117 160 146 145 19 83 185 145 38 135 108 201 34 229 127 101 168 95 153 182 147 187 93 205 98 81 228 133 61 14 200 33 166 182 124 190 93 254 13 110 201 75 119 107 185 113 197 53 72 202 124 23 116 126 138 247 13 94 68 217 238 240 25 195 31 123 34 247 172 172 199 157 170 115 90 152 153 17 226 158 103 47 223 71 229 244 226 204 2 233 186 156 75 204 180 173 238 201 175 197 25 232 61 2 94 140 28 96 226 246 128 25 191 231 70 204 244 7 179 81 188 126 105 231 215 183 213 134 49 15 230 136 122 237 26 220 132 234 116 191 182 10 7 125 113 99 110 118 178 252 31 173 231 59 166 64 108 171 129 173 206 9 19 25 171 13 127 53 94 169 63 19 119 142 176 43 153 122 25 217 245 51 189 202 40 203 104 28 210 248 124 40 146 214 233 158 145 119 226 61 143 88 238 122 231 116 154 178 106 222
B94: 39 225 54 190 10 180 241 252 225 221 109 124 139 198 234 2 189 53 226 54 137 74 43 115 188 120 18 232 157 10 46 102 122 122 142 253 106 94 158 49 175 210 125 141 99 18 178 57 133 55 69 6 125 94 199 57 52 176 213 77 125 23 9 105 48 29 103 38 232 198 229 222 103 149 109 156 187 39 233 192 216 91 16 251 148 91 178 229 253 199 205 188 93 151 101 246 14 164 119 168 162 252 24 161 254 237 214 142 207 166 17 9 212 226 17 207 165 81 94 14 179 108 45 202 218 178 223 98 163 190 130 230 144 161 205 38 104 30 225 117 73 235 82 242 25 155 136 185 159 222 220 242 121 220 2 177 204 3 88 124 173 243 72 235 240 121 13 203 14 126 62 139 76 28 112 71 245 48 184 37 46 120 159 8 12 46 115 229 159 71 227 199 127 127 255 183 127 50 163 201 203 226 174 214 113 50 53 103 222 221 42 58 191 3 214 137 193 98 163 125 203 62 75 49 242 233 65 99 164 53 231 35 251 242 205 225 217 155 29 165 21 88 197 201 85 39 108 40 114 200 117 122 119 130 129 31 99 195 95 220 178 198 182 162 201 106 147 247 67 172 117 220 189 55 95 211 155 121 9 206 154 180 221 97 97 200 213 185 51 170 208 217 140 86 199 57 84 103 251 135 158 236 189 215 104 130 165 32 114 247 39 21 9 203 18 246 243 7 6 121 154 15 145 115 113 250 181 210 59 209 24 115 251 215 199 201 99 23 180 28 133 24 54 122 246 237 215 13 62 214 5 233 115 237 167 44 58 155 8 177 183 44 69 166 177 7 143 125 34 131 87 222 161 201 69 174 185 146 175 155 185 151 166 182 113 194 79 78 138 159 197 29 176 153 232 207 85 110 95 242 244 153 201 230 70 87 238 208 59 123 219 28 105 194 67 70 127 142 176 179 222 192 60 180 255 190 155 79 63 109 212 215 186 31 59 211 178 123 177 146 85 82 150 110 228 250 96 125 244 46 54 230 99 179 198 114 196 153 101 115 219 46 22 81 169 8 203 11 174 185 250 190 120 175 77 114 234 163 66 113 175 97 104 178 232 203 204 198 114 51 239 100 250 6 11 205 97 79 62 220 248 136 52 125 133 168 243 169 54 206 220 83
... B142: 53 123 209 152 198 78 200 81 21 217 164 65 64 75 100 219 137 43 234 131 78 128 176 92 255 187 134 53 147 174 167 62 108 164 102 56 35 254 168 29 172 201 19 126 14 16 2 234 143 59 132 17 3 7 133 13 231 31 25 35 60 252 56 8 191 86 28 24 211 8 87 212 111 13 73 212 68 86 210 106 232 152 23 70 117 31 45 75 175 167 82 218 70 121 226 250 176 92 182 186 168 241 230 209 81 52 174 224 251 140 99 118 187 68 109 2 107 202 130 102 187 221 74 150 113 176 30 45 108 182 90 185 11 107 217 162 102 180 37 161 153 115 208 172 231 116 199 108 177 162 229 181 181 137 179 86 219 240 22 176 141 117 119 99 44 149 254 81 57 154 46 248 167 210 55 218 33 251 1 75 127 11 82 85 237 111 105 96 73 16 186 191 129 241 43 11 187 82 163 77 106 99 227 122 241 102 220 93 126 233 29 86 95 195 229 0 60 0 237 28 58 155 110 200 125 119 2 96 82 20 220 195 216 37 85 23 71 229 54 55 236 188 111 10 150 83 155 244 213 150 211 159 20 14 168 9 13 122 151 170 38 180 8 15 11 255 164 158 208 194 61 180 79 236 218 243 160 187 129 133 185 67 69 253 85 184 219 219 245 238 144 11 221 232 186 123 87 115 135 187 16 134 114 253 31 131 26 21 206 171 234 3 182 7 26 192 116 24 163 18 0 241 186 103 128 153 212 225 227 10 117 32 78 85 7 86 168 234 125 53 54 132 215 115 83 180 33 66 47 235 16 242 46 219 163 94 120 48 125 96 197 131 132 251 234 131 233 128 123 238 171 159 171 67 227 121 245 254 131 229 234 253 11 231 213 129 101 43 224 250 197 242 14 89 94 221 127 254 242 50 102 113 6 24 96 128 1 6 24 48 124 248 95 253

Sheet LFAFQGJ

Sheet 封皮
A12: 文登区2025年预算执行 情况和2026年预算草案

Sheet 目录
A1: 文登区2025年预算执行情况和2026年预算草案目录
A3: 第一部分 一般公共预算
A5: 表1.2025年文登区一般公共预算收入执行情况表
A6: 表2.2025年文登区一般公共预算支出执行情况表
A7: 表3.2025年上级对文登区税收返还及转移支付情况表
A8: 表4.2025年文登区本级一般公共预算收入执行情况表
A9: 表5.2025年文登区本级一般公共预算支出执行情况表
A10: 表6.2025年文登区税收返还执行情况表
A11: 表7.2025年文登区一般性转移支付执行情况表
A12: 表8.2025年文登区专项转移支付执行情况表
A13: 表9.2025年文登区一般公共预算收支执行情况表
A14: 表10.2026年文登区一般公共预算收入草案表
... A88: 表69.2026年文登区本级财政专户管理资金收支计划草案表

Sheet 1一般
A1: 表1
A2: 2025年文登区一般公共预算收入执行情况表
A3: 单位：万元
A4: 项 目 | B4: 2024年 决算数 | C4: 2025年 预算数 | D4: 2025年 调整预算数 | E4: 2025年执行数
E5: 金额 | F5: 占调整 预算 | G5: 比上年 增长
A6: 一、税收收入 | B6: =SUM(B7:B20) -> 230252 | C6: =SUM(C7:C20) -> 232000 | D6: =SUM(D7:D20) -> 232600 | E6: =SUM(E7:E20) -> 236381 | F6: =E6/D6 -> 1.0162554 | G6: =(E6-B6)/B6 -> 0.026618661
A7: 国内增值税 | B7: 73831 | C7: 73950 | D7: 71000 | E7: 72153 | F7: =E7/D7 -> 1.0162394 | G7: =(E7-B7)/B7 -> -0.022727581
A8: 企业所得税 | B8: 16257 | C8: 16338 | D8: 21740 | E8: 21949 | F8: =E8/D8 -> 1.0096136 | G8: =(E8-B8)/B8 -> 0.3501261
A9: 个人所得税 | B9: 10254 | C9: 10403 | D9: 7552 | E9: 8167 | F9: =E9/D9 -> 1.0814354 | G9: =(E9-B9)/B9 -> -0.20353033
A10: 资源税 | B10: 1308 | C10: 1323 | D10: 3621 | E10: 3625 | F10: =E10/D10 -> 1.0011047 | G10: =(E10-B10)/B10 -> 1.7714067
A11: 城市维护建设税 | B11: 8651 | C11: 8688 | D11: 8988 | E11: 9249 | F11: =E11/D11 -> 1.0290387 | G11: =(E11-B11)/B11 -> 0.069124957
A12: 房产税 | B12: 18512 | C12: 18600 | D12: 18800 | E12: 19012 | F12: =E12/D12 -> 1.0112766 | G12: =(E12-B12)/B12 -> 0.027009507
A13: 印花税 | B13: 5138 | C13: 5186 | D13: 6159 | E13: 5249 | F13: =E13/D13 -> 0.85224874 | G13: =(E13-B13)/B13 -> 0.021603737
A14: 城镇土地使用税 | B14: 59522 | C14: 60000 | D14: 58300 | E14: 58809 | F14: =E14/D14 -> 1.0087307 | G14: =(E14-B14)/B14 -> -0.011978764
A15: 土地增值税 | B15: 5709 | C15: 5777 | D15: 2100 | E15: 2280 | F15: =E15/D15 -> 1.0857143 | G15: =(E15-B15)/B15 -> -0.60063058
A16: 车船税 | B16: 6112 | C16: 6190 | D16: 6100 | E16: 6543 | F16: =E16/D16 -> 1.072623 | G16: =(E16-B16)/B16 -> 0.070517016
A17: 耕地占用税 | B17: 1709 | C17: 1712 | D17: 807 | E17: 807 | F17: =E17/D17 -> 1 | G17: =(E17-B17)/B17 -> -0.52779403
A18: 契税 | B18: 22914 | C18: 23500 | D18: 25815 | E18: 26916 | F18: =E18/D18 -> 1.0426496 | G18: =(E18-B18)/B18 -> 0.17465305
A19: 环境保护税 | B19: 335 | C19: 333 | D19: 1618 | E19: 1622 | F19: =E19/D19 -> 1.0024722 | G19: =(E19-B19)/B19 -> 3.841791
A20: 其他税收收入
A21: 二、非税收入 | B21: =SUM(B22:B29) -> 198503 | C21: =SUM(C22:C29) -> 205330 | D21: =SUM(D22:D29) -> 213306 | E21: =SUM(E22:E29) -> 204294 | F21: =E21/D21 -> 0.95775084 | G21: =(E21-B21)/B21 -> 0.029173363
A22: 专项收入 | B22: 9542 | C22: 9834 | D22: 9834 | E22: 9838 | F22: =E22/D22 -> 1.0004068 | G22: =(E22-B22)/B22 -> 0.03102075
A23: 行政事业性收费收入 | B23: 6098 | C23: 7002 | D23: 7002 | E23: 4429 | F23: =E23/D23 -> 0.63253356 | G23: =(E23-B23)/B23 -> -0.27369629
A24: 罚没收入 | B24: 6801 | C24: 7741 | D24: 25968 | E24: 37986 | F24: =E24/D24 -> 1.4628004 | G24: =(E24-B24)/B24 -> 4.5853551
A25: 国有资本经营收入 | B25: 0
A26: 国有资源(资产)有偿使用收入 | B26: 176043 | C26: 180753 | D26: 170502 | E26: 152003 | F26: =E26/D26 -> 0.89150274 | G26: =(E26-B26)/B26 -> -0.13655755
A27: 捐赠收入
A28: 政府住房基金收入 | B28: 18 | E28: 31 | G28: =(E28-B28)/B28 -> 0.72222222
A29: 其他收入 | B29: 1 | E29: 7 | G29: =(E29-B29)/B29 -> 6
A30: 本年收入合计 | B30: =B6+B21 -> 428755 | C30: =C6+C21 -> 437330 | D30: =D6+D21 -> 445906 | E30: =E6+E21 -> 440675 | F30: =E30/D30 -> 0.98826883 | G30: =(E30-B30)/B30 -> 0.027801425
A31: 转移性收入 | B31: =SUM(B32:B38) -> 1069771 | C31: =SUM(C32:C38) -> 846747 | D31: =SUM(D32:D38) -> 653714 | E31: =SUM(E32:E38) -> 1003458
A32: 地方政府一般债务转贷收入 | B32: 16290 | C32: 39253 | D32: 52250 | E32: 52250
A33: 返还性收入 | B33: 58833 | C33: 58833 | D33: 58833 | E33: 58833
A34: 一般性转移支付收入 | B34: 127739 | C34: 120000 | D34: 120000 | E34: 162881
A35: 专项转移支付收入 | B35: 46010 | C35: 46000 | D35: 20000 | E35: 12712
A36: 调入资金 | B36: 375676 | C36: 310000 | D36: 130000 | E36: 324151
A37: 动用预算稳定调节基金 | B37: 381260 | C37: 140844 | D37: 140844 | E37: 260844
A38: 上年结转收入 | B38: 63963 | C38: 131817 | D38: 131787 | E38: 131787
A39: 收入总计 | B39: =B30+B31 -> 1498526 | C39: =C30+C31 -> 1284077 | D39: =D30+D31 -> 1099620 | E39: =E30+E31 -> 1444133

Sheet 2
A1: 表2
A2: 2025年文登区一般公共预算支出执行情况表
A3: 单位：万元
A4: 项 目 | B4: 2024年 决算数 | C4: 2025年 预算数 | D4: 2025年 调整预算数 | E4: 2025年执行数
E5: 金额 | F5: 占调整 预算 | G5: 比上年 增长
A6: 一、一般公共服务支出 | B6: 46139 | C6: 67000 | D6: 53100 | E6: 45849 | F6: =E6/D6 -> 0.86344633 | G6: =(E6-B6)/B6 -> -0.0062853551
A7: 二、国防支出 | B7: 275 | C7: 404 | D7: 200 | E7: 245 | F7: =E7/D7 -> 1.225 | G7: =(E7-B7)/B7 -> -0.10909091
A8: 三、公共安全支出 | B8: 4070 | C8: 5393 | D8: 3900 | E8: 3617 | F8: =E8/D8 -> 0.9274359 | G8: =(E8-B8)/B8 -> -0.11130221
A9: 四、教育支出 | B9: 189198 | C9: 192000 | D9: 192000 | E9: 192013 | F9: =E9/D9 -> 1.0000677 | G9: =(E9-B9)/B9 -> 0.014878593
A10: 五、科学技术支出 | B10: 457 | C10: 655 | D10: 1600 | E10: 1638 | F10: =E10/D10 -> 1.02375 | G10: =(E10-B10)/B10 -> 2.5842451
A11: 六、文化旅游体育与传媒支出 | B11: 9848 | C11: 5725 | D11: 5725 | E11: 5853 | F11: =E11/D11 -> 1.0223581 | G11: =(E11-B11)/B11 -> -0.40566613
A12: 七、社会保障和就业支出 | B12: 139340 | C12: 150000 | D12: 152000 | E12: 165915 | F12: =E12/D12 -> 1.0915461 | G12: =(E12-B12)/B12 -> 0.19072054
A13: 八、卫生健康支出 | B13: 77728 | C13: 75000 | D13: 68000 | E13: 64393 | F13: =E13/D13 -> 0.94695588 | G13: =(E13-B13)/B13 -> -0.1715598
A14: 九、节能环保支出 | B14: 4945 | C14: 18000 | D14: 3000 | E14: 2220 | F14: =E14/D14 -> 0.74 | G14: =(E14-B14)/B14 -> -0.55106168
A15: 十、城乡社区支出 | B15: 80253 | C15: 81000 | D15: 57800 | E15: 41355 | F15: =E15/D15 -> 0.71548443 | G15: =(E15-B15)/B15 -> -0.48469216
A16: 十一、农林水支出 | B16: 83585 | C16: 83590 | D16: 83590 | E16: 84790 | F16: =E16/D16 -> 1.0143558 | G16: =(E16-B16)/B16 -> 0.014416462
A17: 十二、交通运输支出 | B17: 4652 | C17: 3000 | D17: 2100 | E17: 2274 | F17: =E17/D17 -> 1.0828571 | G17: =(E17-B17)/B17 -> -0.51117799
... A19: 十四、商业服务业等支出 | B19: 4580 | C19: 1300 | D19: 1300 | E19: 1138 | F19: =E19/D19 -> 0.87538462 | G19: =(E19-B19)/B19 -> -0.75152838
A20: 十五、金融支出 | B20: 95 | C20: 260 | D20: 260
A21: 十六、援助其他地区支出 | B21: 0 | C21: 700 | D21: 700
A22: 十七、自然资源海洋气象等支出 | B22: 3214 | C22: 4486 | D22: 3000 | E22: 3081 | F22: =E22/D22 -> 1.027 | G22: =(E22-B22)/B22 -> -0.041381456
A23: 十八、住房保障支出 | B23: 68063 | C23: 34587 | D23: 38934 | E23: 48127 | F23: =E23/D23 -> 1.2361175 | G23: =(E23-B23)/B23 -> -0.2929051
A24: 十九、粮油物资储备支出 | B24: 772 | C24: 300 | D24: 100 | E24: 780
A25: 二十、灾害防治及应急管理支出 | B25: 3206 | C25: 3973 | D25: 2900 | E25: 3238 | F25: =E25/D25 -> 1.1165517 | G25: =(E25-B25)/B25 -> 0.0099812851
A26: 二十一、预备费 | B26: 0 | C26: 8500
A27: 二十二、债务付息支出 | B27: 11643 | C27: 11161 | D27: 11381 | E27: 11431 | F27: =E27/D27 -> 1.0043933 | G27: =(E27-B27)/B27 -> -0.018208366
A28: 二十三、其他支出 | B28: 23 | C28: 400 | D28: 200 | E28: 5 | F28: =E28/D28 -> 0.025 | G28: =(E28-B28)/B28 -> -0.7826087
A29: 本年支出合计 | B29: =SUM(B6:B28) -> 732374 | C29: =SUM(C6:C28) -> 747734 | D29: =SUM(D6:D28) -> 682240 | E29: =SUM(E6:E28) -> 678646 | F29: =E29/D29 -> 0.99473206 | G29: =(E29-B29)/B29 -> -0.073361425
A30: 转移性支出 | B30: =SUM(B31:B37) -> 766152 | C30: =SUM(C31:C37) -> 536343 | D30: =SUM(D31:D37) -> 417380 | E30: =SUM(E31:E37) -> 765487
A31: 地方政府一般债务还本支出 | B31: 16388 | C31: 43614 | D31: 56614 | E31: 56719
A32: 上解支出 | B32: 97133 | C32: 96000 | D32: 96000 | E32: 107784
A33: 安排预算稳定调节基金 | B33: 520844 | C33: 310000 | D33: 178037 | E33: 438037
A34: 补充预算周转金
A35: 区域间转移性支出
A36: 调出资金
A37: 结转下年支出 | B37: 131787 | C37: 86729 | D37: 86729 | E37: 162947
A38: 支出总计 | B38: =B30+B29 -> 1498526 | C38: =C30+C29 -> 1284077 | D38: =D30+D29 -> 1099620 | E38: =E30+E29 -> 1444133

Sheet 3
A1: 表3
A2: 2025年上级对文登区税收返还及转移支付情况表
B3: 单位：万元
A4: 项 目 | B4: 金 额
A5: 合 计 | B5: =B6+B13+B22 -> 234426
A6: 一、返还性收入 | B6: =SUM(B7:B12) -> 58833
A7: 所得税基数返还收入 | B7: 10299
A8: 成品油税费改革税收返还收入 | B8: 308
A9: 增值税税收返还收入 | B9: 9809
A10: 消费税税收返还收入 | B10: 129
A11: 增值税“五五分享”税收返还收入 | B11: 37197
A12: 其他返还收入 | B12: 1091
A13: 二、一般性转移支付收入 | B13: =SUM(B14:B21) -> 162881
A14: 公共安全财政共同事权转移支付收入 | B14: 203
A15: 教育共同财政事权转移支付收入 | B15: 3949
A16: 社会保障和就业共同财政事权转移支付收入 | B16: 25378
A17: 医疗卫生共同财政事权转移支付收入 | B17: 10493
A18: 农林水共同财政事权转移支付收入 | B18: 29381
A19: 交通运输共同财政事权转移支付收入 | B19: 170
A20: 住房保障共同财政事权转移支付收入 | B20: 821
A21: 其他各项一般性转移支付收入 | B21: 92486
A22: 三、专项转移支付收入 | B22: =SUM(B23:B37) -> 12712
A23: 一般公共服务 | B23: 279
A24: 公共安全
A25: 教育 | B25: 314
A26: 科学技术
A27: 文化旅游体育与传媒
A28: 社会保障和就业 | B28: 70
A29: 卫生健康 | B29: 198
A30: 节能环保 | B30: 2159
A31: 城乡社区 | B31: 35
A32: 农林水 | B32: 2280
A33: 交通运输 | B33: 628
A34: 工业商业金融业等 | B34: 1283
A35: 自然资源海洋气象等 | B35: 600
A36: 住房保障
A37: 其他各项专项转移支付 | B37: 4866

Sheet 4
A1: 表4
A2: 2025年文登区本级一般公共预算收入执行情况表
A3: 单位：万元
A4: 项 目 | B4: 2024年 决算数 | C4: 2025年 预算数 | D4: 2025年 调整预算数 | E4: 2025年执行数
E5: 金额 | F5: 占调整 预算 | G5: 比上年 增长
A6: 一、税收收入 | B6: =SUM(B7:B20) -> 230252 | C6: =SUM(C7:C20) -> 232000 | D6: =SUM(D7:D20) -> 232600 | E6: =SUM(E7:E20) -> 236381 | F6: =E6/D6 -> 1.0162554 | G6: =(E6-B6)/B6 -> 0.026618661
A7: 国内增值税 | B7: 73831 | C7: 73950 | D7: 71000 | E7: 72153 | F7: =E7/D7 -> 1.0162394 | G7: =(E7-B7)/B7 -> -0.022727581
A8: 企业所得税 | B8: 16257 | C8: 16338 | D8: 21740 | E8: 21949 | F8: =E8/D8 -> 1.0096136 | G8: =(E8-B8)/B8 -> 0.3501261
A9: 个人所得税 | B9: 10254 | C9: 10403 | D9: 7552 | E9: 8167 | F9: =E9/D9 -> 1.0814354 | G9: =(E9-B9)/B9 -> -0.20353033
A10: 资源税 | B10: 1308 | C10: 1323 | D10: 3621 | E10: 3625 | F10: =E10/D10 -> 1.0011047 | G10: =(E10-B10)/B10 -> 1.7714067
A11: 城市维护建设税 | B11: 8651 | C11: 8688 | D11: 8988 | E11: 9249 | F11: =E11/D11 -> 1.0290387 | G11: =(E11-B11)/B11 -> 0.069124957
A12: 房产税 | B12: 18512 | C12: 18600 | D12: 18800 | E12: 19012 | F12: =E12/D12 -> 1.0112766 | G12: =(E12-B12)/B12 -> 0.027009507
A13: 印花税 | B13: 5138 | C13: 5186 | D13: 6159 | E13: 5249 | F13: =E13/D13 -> 0.85224874 | G13: =(E13-B13)/B13 -> 0.021603737
A14: 城镇土地使用税 | B14: 59522 | C14: 60000 | D14: 58300 | E14: 58809 | F14: =E14/D14 -> 1.0087307 | G14: =(E14-B14)/B14 -> -0.011978764
A15: 土地增值税 | B15: 5709 | C15: 5777 | D15: 2100 | E15: 2280 | F15: =E15/D15 -> 1.0857143 | G15: =(E15-B15)/B15 -> -0.60063058
A16: 车船税 | B16: 6112 | C16: 6190 | D16: 6100 | E16: 6543 | F16: =E16/D16 -> 1.072623 | G16: =(E16-B16)/B16 -> 0.070517016
A17: 耕地占用税 | B17: 1709 | C17: 1712 | D17: 807 | E17: 807 | F17: =E17/D17 -> 1 | G17: =(E17-B17)/B17 -> -0.52779403
A18: 契税 | B18: 22914 | C18: 23500 | D18: 25815 | E18: 26916 | F18: =E18/D18 -> 1.0426496 | G18: =(E18-B18)/B18 -> 0.17465305
A19: 环境保护税 | B19: 335 | C19: 333 | D19: 1618 | E19: 1622 | F19: =E19/D19 -> 1.0024722 | G19: =(E19-B19)/B19 -> 3.841791
A20: 其他税收收入
A21: 二、非税收入 | B21: =SUM(B22:B29) -> 198503 | C21: =SUM(C22:C29) -> 205330 | D21: =SUM(D22:D29) -> 213306 | E21: =SUM(E22:E29) -> 204294 | F21: =E21/D21 -> 0.95775084 | G21: =(E21-B21)/B21 -> 0.029173363
A22: 专项收入 | B22: 9542 | C22: 9834 | D22: 9834 | E22: 9838 | F22: =E22/D22 -> 1.0004068 | G22: =(E22-B22)/B22 -> 0.03102075
A23: 行政事业性收费收入 | B23: 6098 | C23: 7002 | D23: 7002 | E23: 4429 | F23: =E23/D23 -> 0.63253356 | G23: =(E23-B23)/B23 -> -0.27369629
A24: 罚没收入 | B24: 6801 | C24: 7741 | D24: 25968 | E24: 37986 | F24: =E24/D24 -> 1.4628004 | G24: =(E24-B24)/B24 -> 4.5853551
A25: 国有资本经营收入 | B25: 0
A26: 国有资源(资产)有偿使用收入 | B26: 176043 | C26: 180753 | D26: 170502 | E26: 152003 | F26: =E26/D26 -> 0.89150274 | G26: =(E26-B26)/B26 -> -0.13655755
A27: 捐赠收入
A28: 政府住房基金收入 | B28: 18 | E28: 31
A29: 其他收入 | B29: 1 | E29: 7
A30: 本年收入合计 | B30: =B6+B21 -> 428755 | C30: =C6+C21 -> 437330 | D30: =D6+D21 -> 445906 | E30: =E6+E21 -> 440675 | F30: =E30/D30 -> 0.98826883 | G30: =(E30-B30)/B30 -> 0.027801425
A31: 转移性收入 | B31: =SUM(B32:B38) -> 1069771 | C31: =SUM(C32:C38) -> 846747 | D31: =SUM(D32:D38) -> 653714 | E31: =SUM(E32:E38) -> 1003458
A32: 地方政府一般债务转贷收入 | B32: 16290 | C32: 39253 | D32: 52250 | E32: 52250
A33: 返还性收入 | B33: 58833 | C33: 58833 | D33: 58833 | E33: 58833
A34: 一般性转移支付收入 | B34: 127739 | C34: 120000 | D34: 120000 | E34: 162881
A35: 专项转移支付收入 | B35: 46010 | C35: 46000 | D35: 20000 | E35: 12712
A36: 调入资金 | B36: 375676 | C36: 310000 | D36: 130000 | E36: 324151
A37: 动用预算稳定调节基金 | B37: 381260 | C37: 140844 | D37: 140844 | E37: 260844
A38: 上年结转收入 | B38: 63963 | C38: 131817 | D38: 131787 | E38: 131787
A39: 收入总计 | B39: =B30+B31 -> 1498526 | C39: =C30+C31 -> 1284077 | D39: =D30+D31 -> 1099620 | E39: =E30+E31 -> 1444133

Sheet 5
A1: 表5
A2: 2025年文登区本级一般公共预算支出执行情况表
A3: 单位：万元
A4: 项 目 | B4: 2024年 决算数 | C4: 2025年 预算数 | D4: 2025年 调整预算数 | E4: 2025年执行数
E5: 金额 | F5: 占调整 预算 | G5: 比上年 增长
A6: 一、一般公共服务支出 | B6: 46139 | C6: 67000 | D6: 53100 | E6: 45849 | F6: =E6/D6 -> 0.86344633 | G6: =(E6-B6)/B6 -> -0.0062853551
A7: 二、国防支出 | B7: 275 | C7: 404 | D7: 200 | E7: 245 | F7: =E7/D7 -> 1.225 | G7: =(E7-B7)/B7 -> -0.10909091
A8: 三、公共安全支出 | B8: 4070 | C8: 5393 | D8: 3900 | E8: 3617 | F8: =E8/D8 -> 0.9274359 | G8: =(E8-B8)/B8 -> -0.11130221
A9: 四、教育支出 | B9: 189198 | C9: 192000 | D9: 192000 | E9: 192013 | F9: =E9/D9 -> 1.0000677 | G9: =(E9-B9)/B9 -> 0.014878593
A10: 五、科学技术支出 | B10: 457 | C10: 655 | D10: 1600 | E10: 1638 | F10: =E10/D10 -> 1.02375 | G10: =(E10-B10)/B10 -> 2.5842451
A11: 六、文化旅游体育与传媒支出 | B11: 9848 | C11: 5725 | D11: 5725 | E11: 5853 | F11: =E11/D11 -> 1.0223581 | G11: =(E11-B11)/B11 -> -0.40566613
A12: 七、社会保障和就业支出 | B12: 139340 | C12: 150000 | D12: 152000 | E12: 165915 | F12: =E12/D12 -> 1.0915461 | G12: =(E12-B12)/B12 -> 0.19072054
A13: 八、卫生健康支出 | B13: 77728 | C13: 75000 | D13: 68000 | E13: 64393 | F13: =E13/D13 -> 0.94695588 | G13: =(E13-B13)/B13 -> -0.1715598
A14: 九、节能环保支出 | B14: 4945 | C14: 18000 | D14: 3000 | E14: 2220 | F14: =E14/D14 -> 0.74 | G14: =(E14-B14)/B14 -> -0.55106168
A15: 十、城乡社区支出 | B15: 80253 | C15: 81000 | D15: 57800 | E15: 41355 | F15: =E15/D15 -> 0.71548443 | G15: =(E15-B15)/B15 -> -0.48469216
A16: 十一、农林水支出 | B16: 83585 | C16: 83590 | D16: 83590 | E16: 84790 | F16: =E16/D16 -> 1.0143558 | G16: =(E16-B16)/B16 -> 0.014416462
A17: 十二、交通运输支出 | B17: 4652 | C17: 3000 | D17: 2100 | E17: 2274 | F17: =E17/D17 -> 1.0828571 | G17: =(E17-B17)/B17 -> -0.51117799
... A19: 十四、商业服务业等支出 | B19: 4580 | C19: 1300 | D19: 1300 | E19: 1138 | F19: =E19/D19 -> 0.87538462 | G19: =(E19-B19)/B19 -> -0.75152838
A20: 十五、金融支出 | B20: 95 | C20: 260 | D20: 260 | F20: =E20/D20 -> 0 | G20: =(E20-B20)/B20 -> -1
A21: 十六、援助其他地区支出 | B21: 0 | C21: 700 | D21: 700
A22: 十七、自然资源海洋气象等支出 | B22: 3214 | C22: 4486 | D22: 3000 | E22: 3081 | F22: =E22/D22 -> 1.027 | G22: =(E22-B22)/B22 -> -0.041381456
A23: 十八、住房保障支出 | B23: 68063 | C23: 34587 | D23: 38934 | E23: 48127 | F23: =E23/D23 -> 1.2361175 | G23: =(E23-B23)/B23 -> -0.2929051
A24: 十九、粮油物资储备支出 | B24: 772 | C24: 300 | D24: 100 | E24: 780 | F24: =E24/D24 -> 7.8 | G24: =(E24-B24)/B24 -> 0.010362694
A25: 二十、灾害防治及应急管理支出 | B25: 3206 | C25: 3973 | D25: 2900 | E25: 3238 | F25: =E25/D25 -> 1.1165517 | G25: =(E25-B25)/B25 -> 0.0099812851
A26: 二十一、预备费 | B26: 0 | C26: 8500
A27: 二十二、债务付息支出 | B27: 11643 | C27: 11161 | D27: 11381 | E27: 11431 | F27: =E27/D27 -> 1.0043933 | G27: =(E27-B27)/B27 -> -0.018208366
A28: 二十三、其他支出 | B28: 23 | C28: 400 | D28: 200 | E28: 5 | F28: =E28/D28 -> 0.025 | G28: =(E28-B28)/B28 -> -0.7826087
A29: 本年支出合计 | B29: =SUM(B6:B28) -> 732374 | C29: =SUM(C6:C28) -> 747734 | D29: =SUM(D6:D28) -> 682240 | E29: =SUM(E6:E28) -> 678646 | F29: =E29/D29 -> 0.99473206 | G29: =(E29-B29)/B29 -> -0.073361425
A30: 转移性支出 | B30: =SUM(B31:B37) -> 766152 | C30: =SUM(C31:C37) -> 536343 | D30: =SUM(D31:D37) -> 417380 | E30: =SUM(E31:E37) -> 765487
A31: 地方政府一般债务还本支出 | B31: 16388 | C31: 43614 | D31: 56614 | E31: 56719
A32: 上解支出 | B32: 97133 | C32: 96000 | D32: 96000 | E32: 107784
A33: 安排预算稳定调节基金 | B33: 520844 | C33: 310000 | D33: 178037 | E33: 438037
A34: 补充预算周转金
A35: 区域间转移性支出
A36: 调出资金
A37: 结转下年支出 | B37: 131787 | C37: 86729 | D37: 86729 | E37: 162947
A38: 支出总计 | B38: =B30+B29 -> 1498526 | C38: =C30+C29 -> 1284077 | D38: =D30+D29 -> 1099620 | E38: =E30+E29 -> 1444133

Sheet 6
A1: 表6
A2: 2025年文登区税收返还执行情况表
D3: 单位：万元
A4: 地 区 | B4: 合 计 | C4: 所得税基数返还 | D4: 成品油税费改革税收返还 | E4: 增值税税收返还 | F4: 消费税税收返还 | G4: 增值税“五五分享”税收返还 | H4: 其他返还
A5: 文登区 | B5: =SUM(C5:H5) -> 58833 | C5: 10299 | D5: 308 | E5: 9809 | F5: 129 | G5: 37197 | H5: 1091

Sheet 7
A1: 表7
A2: 2025年文登区一般性转移支付执行情况表
A3: 单位：万元
A4: 区 市 | B4: 合 计 | C4: 公共安全财政共同事权转移支付 | D4: 教育共同财政事权转移支付 | E4: 社会保障和就业共同财政事权转移支付 | F4: 医疗卫生共同财政事权转移支付 | G4: 农林水共同财政事权转移支付 | H4: 交通运输共同财政事权转移支付 | I4: 自然资源海洋气象等共同财政事权转移支付 | J4: 住房保障共同财政事权转移支付 | K4: 其他各项一般性转移支付
A5: 文登区 | B5: =SUM(C5:K5) -> 162881 | C5: 203 | D5: 3949 | E5: 25378 | F5: 10493 | G5: 29381 | H5: 170 | I5: 0 | J5: 2142 | K5: 91165

Sheet 9
A1: 表9
A2: 2025年文登区一般公共预算收支执行情况表
A3: 单位：万元
A4: 地 区 | B4: 一般公共预算收入 | E4: 一般公共预算支出
B5: 2024年 决算数 | C5: 2025年 执行数 | D5: 比上年 增长 | E5: 2024年 决算数 | F5: 2025年 执行数 | G5: 比上年 增长
A6: 文登区 | B6: 428755 | C6: 440675 | D6: =ROUND((C6-B6)/B6,3) -> 0.028 | E6: 732374 | F6: 678646 | G6: =ROUND((F6-E6)/E6,3) -> -0.073

Sheet 8
A1: 表8
A2: 2025年文登区专项转移支付执行情况表
A3: 单位：万元
A4: 区市 | B4: 合计 | C4: 一般公共服务 | D4: 公共安全 | E4: 教育 | F4: 科学技术 | G4: 文化旅游体育与传媒 | H4: 社会保障和就业 | I4: 卫生健康 | J4: 节能 环保 | K4: 城乡社区 | L4: 农林水 | M4: 交通 运输 | N4: 工业商业金融等 | O4: 自然资源海洋气象等 | P4: 住房 保障 | Q4: 其他各项专项转移支付
A5: 文登区 | B5: =SUM(C5:Q5) -> 12712 | C5: 279 | D5: 0 | E5: 314 | F5: 0 | G5: 0 | H5: 70 | I5: 198 | J5: 2159 | K5: 35 | L5: 2280 | M5: 628 | N5: 1283 | O5: 600 | P5: 0 | Q5: 4866

Sheet 10
A1: 表10
A2: 2026年文登区一般公共预算收入草案表
A3: 单位：万元
A4: 项 目 | B4: 2025年执行数 | C4: 2026年预算数 | D4: 比上年增长
A5: 一、税收收入 | B5: =SUM(B6:B19) -> 236381 | C5: =SUM(C6:C19) -> 238743 | D5: =(C5-B5)/B5 -> 0.0099923429
A6: 国内增值税 | B6: ='1一般'!E7 -> 72153 | C6: 72875 | D6: =(C6-B6)/B6 -> 0.010006514
A7: 企业所得税 | B7: ='1一般'!E8 -> 21949 | C7: 22168 | D7: =(C7-B7)/B7 -> 0.0099776755
A8: 个人所得税 | B8: ='1一般'!E9 -> 8167 | C8: 8249 | D8: =(C8-B8)/B8 -> 0.010040407
A9: 资源税 | B9: ='1一般'!E10 -> 3625 | C9: 3661 | D9: =(C9-B9)/B9 -> 0.0099310345
A10: 城市维护建设税 | B10: ='1一般'!E11 -> 9249 | C10: 9341 | D10: =(C10-B10)/B10 -> 0.0099470213
A11: 房产税 | B11: ='1一般'!E12 -> 19012 | C11: 19202 | D11: =(C11-B11)/B11 -> 0.0099936882
A12: 印花税 | B12: ='1一般'!E13 -> 5249 | C12: 5301 | D12: =(C12-B12)/B12 -> 0.0099066489
A13: 城镇土地使用税 | B13: ='1一般'!E14 -> 58809 | C13: 59397 | D13: =(C13-B13)/B13 -> 0.0099984696
A14: 土地增值税 | B14: ='1一般'!E15 -> 2280 | C14: 2303 | D14: =(C14-B14)/B14 -> 0.010087719
A15: 车船税 | B15: ='1一般'!E16 -> 6543 | C15: 6608 | D15: =(C15-B15)/B15 -> 0.0099342809
A16: 耕地占用税 | B16: ='1一般'!E17 -> 807 | C16: 815 | D16: =(C16-B16)/B16 -> 0.009913259
A17: 契税 | B17: ='1一般'!E18 -> 26916 | C17: 27185 | D17: =(C17-B17)/B17 -> 0.0099940556
A18: 环境保护税 | B18: ='1一般'!E19 -> 1622 | C18: 1638 | D18: =(C18-B18)/B18 -> 0.009864365
A19: 其他税收收入
A20: 二、非税收入 | B20: =SUM(B21:B28) -> 204294 | C20: =SUM(C21:C28) -> 210749 | D20: =(C20-B20)/B20 -> 0.031596621
A21: 专项收入 | B21: ='1一般'!E22 -> 9838 | C21: 10149 | D21: =(C21-B21)/B21 -> 0.031612116
A22: 行政事业性收费收入 | B22: ='1一般'!E23 -> 4429 | C22: 4569 | D22: =(C22-B22)/B22 -> 0.031609844
A23: 罚没收入 | B23: ='1一般'!E24 -> 37986 | C23: 39186 | D23: =(C23-B23)/B23 -> 0.031590586
A24: 国有资本经营收入
A25: 国有资源(资产)有偿使用收入 | B25: ='1一般'!E26 -> 152003 | C25: 156806 | D25: =(C25-B25)/B25 -> 0.031598061
A26: 捐赠收入
A27: 政府住房基金收入 | B27: ='1一般'!E28 -> 31 | C27: 32 | D27: =(C27-B27)/B27 -> 0.032258065
A28: 其他收入 | B28: 7 | C28: 7 | D28: =(C28-B28)/B28 -> 0
A29: 收入合计 | B29: =SUM(B5,B20) -> 440675 | C29: =SUM(C5,C20) -> 449492 | D29: =(C29-B29)/B29 -> 0.020007942
A30: 转移性收入 | B30: =SUM(B31:B37) -> 1003458 | C30: =SUM(C31:C37) -> 682515
A31: 地方政府一般债务转贷收入 | B31: ='1一般'!E32 -> 52250 | C31: 28735
A32: 返还性收入 | B32: ='1一般'!E33 -> 58833 | C32: 58833
A33: 一般性转移支付收入 | B33: ='1一般'!E34 -> 162881 | C33: 160000
A34: 专项转移支付收入 | B34: ='1一般'!E35 -> 12712 | C34: 12000
A35: 调入资金 | B35: ='1一般'!E36 -> 324151 | C35: 130000
A36: 动用预算稳定调节基金 | B36: ='1一般'!E37 -> 260844 | C36: 130000
A37: 上年结转收入 | B37: ='1一般'!E38 -> 131787 | C37: 162947
A38: 收入总计 | B38: =B29+B30 -> 1444133 | C38: =C29+C30 -> 1132007

Sheet 11
A1: 表11
A2: 2026年文登区一般公共预算支出草案表
A3: 单位：万元
A4: 项 目 | B4: 2025年执行数 | C4: 2026年预算数 | D4: 比上年增长
A5: 一、一般公共服务支出 | B5: 45849 | C5: 60387 | D5: =(C5-B5)/B5 -> 0.31708434
A6: 二、国防支出 | B6: 245 | C6: 424 | D6: =(C6-B6)/B6 -> 0.73061224
A7: 三、公共安全支出 | B7: 3617 | C7: 6447 | D7: =(C7-B7)/B7 -> 0.78241637
A8: 四、教育支出 | B8: 192013 | C8: 192020 | D8: =(C8-B8)/B8 -> 3.6455865e-05
A9: 五、科学技术支出 | B9: 1638 | C9: 944 | D9: =(C9-B9)/B9 -> -0.42368742
A10: 六、文化旅游体育与传媒支出 | B10: 5853 | C10: 7956 | D10: =(C10-B10)/B10 -> 0.35930292
A11: 七、社会保障和就业支出 | B11: 165915 | C11: 148434 | D11: =(C11-B11)/B11 -> -0.10536118
A12: 八、卫生健康支出 | B12: 64393 | C12: 64901 | D12: =(C12-B12)/B12 -> 0.0078890563
A13: 九、节能环保支出 | B13: 2220 | C13: 4385 | D13: =(C13-B13)/B13 -> 0.97522523
A14: 十、城乡社区支出 | B14: 41355 | C14: 31205 | D14: =(C14-B14)/B14 -> -0.24543586
A15: 十一、农林水支出 | B15: 84790 | C15: 84790 | D15: =(C15-B15)/B15 -> 0
A16: 十二、交通运输支出 | B16: 2274 | C16: 9345 | D16: =(C16-B16)/B16 -> 3.1094987
... A18: 十四、商业服务业等支出 | B18: 1138 | C18: 1314 | D18: =(C18-B18)/B18 -> 0.15465729
A19: 十五、金融支出 | B19: 0 | C19: 48
A20: 十六、援助其他地区支出 | B20: 0 | C20: 363
A21: 十七、自然资源海洋气象等支出 | B21: 3081 | C21: 5150 | D21: =(C21-B21)/B21 -> 0.67153522
A22: 十八、住房保障支出 | B22: 48127 | C22: 32042 | D22: =(C22-B22)/B22 -> -0.33421988
A23: 十九、粮油物资储备支出 | B23: 780 | C23: 300 | D23: =(C23-B23)/B23 -> -0.61538462
A24: 二十、灾害防治及应急管理支出 | B24: 3238 | C24: 5541 | D24: =(C24-B24)/B24 -> 0.71124151
A25: 二十一、预备费 | B25: 0 | C25: 8500
A26: 二十二、债务付息支出 | B26: 11431 | C26: 10606 | D26: =(C26-B26)/B26 -> -0.072172163
A27: 二十三、其他支出 | B27: 5 | C27: 32 | D27: =(C27-B27)/B27 -> 5.4
A28: 支出合计 | B28: =SUM(B5:B27) -> 678646 | C28: =SUM(C5:C27) -> 677741 | D28: =(C28-B28)/B28 -> -0.0013335377
A29: 转移性支出 | B29: =SUM(B30:B36) -> 765487 | C29: =SUM(C30:C36) -> 454266
A30: 地方政府一般债务还本支出 | B30: 56719 | C30: 32107
A31: 上解支出 | B31: 107784 | C31: 114000
A32: 安排预算稳定调节基金 | B32: 438037 | C32: 208159
A33: 补充预算周转金 | B33: ='2'!E34 -> 0 | C33: 0
